BEGIN:VCALENDAR
VERSION:2.0
PRODID:-//Thorney Parish Council - ECPv6.15.20//NONSGML v1.0//EN
CALSCALE:GREGORIAN
METHOD:PUBLISH
X-ORIGINAL-URL:https://www.thorneyparishcouncil.org.uk
X-WR-CALDESC:Events for Thorney Parish Council
REFRESH-INTERVAL;VALUE=DURATION:PT1H
X-Robots-Tag:noindex
X-PUBLISHED-TTL:PT1H
BEGIN:VTIMEZONE
TZID:Europe/London
BEGIN:DAYLIGHT
TZOFFSETFROM:+0000
TZOFFSETTO:+0100
TZNAME:BST
DTSTART:20290325T010000
END:DAYLIGHT
BEGIN:STANDARD
TZOFFSETFROM:+0100
TZOFFSETTO:+0000
TZNAME:GMT
DTSTART:20291028T010000
END:STANDARD
BEGIN:DAYLIGHT
TZOFFSETFROM:+0000
TZOFFSETTO:+0100
TZNAME:BST
DTSTART:20300331T010000
END:DAYLIGHT
BEGIN:STANDARD
TZOFFSETFROM:+0100
TZOFFSETTO:+0000
TZNAME:GMT
DTSTART:20301027T010000
END:STANDARD
BEGIN:DAYLIGHT
TZOFFSETFROM:+0000
TZOFFSETTO:+0100
TZNAME:BST
DTSTART:20310330T010000
END:DAYLIGHT
BEGIN:STANDARD
TZOFFSETFROM:+0100
TZOFFSETTO:+0000
TZNAME:GMT
DTSTART:20311026T010000
END:STANDARD
END:VTIMEZONE
BEGIN:VEVENT
DTSTART;TZID=Europe/London:20300324T103000
DTEND;TZID=Europe/London:20300324T120000
DTSTAMP:20260423T112846
CREATED:20250730T172019Z
LAST-MODIFIED:20250730T172019Z
UID:10001516-1900578600-1900584000@www.thorneyparishcouncil.org.uk
SUMMARY:New Hope Church
DESCRIPTION:Meets every week on Sunday morning at the Duke of Bedford School.  “We are the church for these challenging and difficult times\, and the church for the unchurched.  There’s no dress code or special conditions attached to visiting us and our meetings are always lively and family friendly.”
URL:https://www.thorneyparishcouncil.org.uk/event/fenlands-church-thorney-2/2030-03-24/
LOCATION:Duke of Bedford School\, Wisbech Road\, Thorney\, PE6 0ST
CATEGORIES:Religious,Service
END:VEVENT
BEGIN:VEVENT
DTSTART;TZID=Europe/London:20300329T140000
DTEND;TZID=Europe/London:20300329T160000
DTSTAMP:20260423T112846
CREATED:20260206T204047Z
LAST-MODIFIED:20260206T204049Z
UID:10000700-1901023200-1901030400@www.thorneyparishcouncil.org.uk
SUMMARY:Warm Welcome
DESCRIPTION:A chat and refreshments at the Bedford Hall. Always free! \nAlso help from volunteers from Good Neighbours Rural Peterborough with smartphones\, laptops and tablets to support those starting to use newer teschnologies to access services and information online.
URL:https://www.thorneyparishcouncil.org.uk/event/warm-welcome-6/2030-03-29/
LOCATION:Bedford Hall\, The Tankyard\, Station Road\, Thorney\, Peterborough\, PE6 0QE\, United Kingdom
CATEGORIES:Social
END:VEVENT
BEGIN:VEVENT
DTSTART;TZID=Europe/London:20300331T103000
DTEND;TZID=Europe/London:20300331T120000
DTSTAMP:20260423T112846
CREATED:20250730T172019Z
LAST-MODIFIED:20250730T172019Z
UID:10001517-1901183400-1901188800@www.thorneyparishcouncil.org.uk
SUMMARY:New Hope Church
DESCRIPTION:Meets every week on Sunday morning at the Duke of Bedford School.  “We are the church for these challenging and difficult times\, and the church for the unchurched.  There’s no dress code or special conditions attached to visiting us and our meetings are always lively and family friendly.”
URL:https://www.thorneyparishcouncil.org.uk/event/fenlands-church-thorney-2/2030-03-31/
LOCATION:Duke of Bedford School\, Wisbech Road\, Thorney\, PE6 0ST
CATEGORIES:Religious,Service
END:VEVENT
BEGIN:VEVENT
DTSTART;TZID=Europe/London:20300407T103000
DTEND;TZID=Europe/London:20300407T120000
DTSTAMP:20260423T112846
CREATED:20250730T172019Z
LAST-MODIFIED:20250730T172019Z
UID:10001518-1901788200-1901793600@www.thorneyparishcouncil.org.uk
SUMMARY:New Hope Church
DESCRIPTION:Meets every week on Sunday morning at the Duke of Bedford School.  “We are the church for these challenging and difficult times\, and the church for the unchurched.  There’s no dress code or special conditions attached to visiting us and our meetings are always lively and family friendly.”
URL:https://www.thorneyparishcouncil.org.uk/event/fenlands-church-thorney-2/2030-04-07/
LOCATION:Duke of Bedford School\, Wisbech Road\, Thorney\, PE6 0ST
CATEGORIES:Religious,Service
END:VEVENT
BEGIN:VEVENT
DTSTART;TZID=Europe/London:20300407T110000
DTEND;TZID=Europe/London:20300407T120000
DTSTAMP:20260423T112846
CREATED:20250503T190245Z
LAST-MODIFIED:20250503T190245Z
UID:10001898-1901790000-1901793600@www.thorneyparishcouncil.org.uk
SUMMARY:Thorney Abbey: Sung Eucharist
DESCRIPTION:A Communion service at the Abbey
URL:https://www.thorneyparishcouncil.org.uk/event/sung-eucharist-2-2/2030-04-07/
CATEGORIES:Religious,Service
END:VEVENT
BEGIN:VEVENT
DTSTART;TZID=Europe/London:20300408T190000
DTEND;TZID=Europe/London:20300408T210000
DTSTAMP:20260423T112846
CREATED:20250425T191757Z
LAST-MODIFIED:20250425T191757Z
UID:10001258-1901905200-1901912400@www.thorneyparishcouncil.org.uk
SUMMARY:Monthly meeting of Thorney Parish Council
DESCRIPTION:This includes a time for public participation at the beginning each month. Please arrive before the meeting starts\, then you will be able to ask your question or make your views heard at 7pm.
URL:https://www.thorneyparishcouncil.org.uk/event/monthly-meeting-of-thorney-parish-council/2030-04-08/
LOCATION:Parish Room\, eastern end of the Bedford Hall\, The Tankyard\, Station Road\, Thorney\, PE6 0QE
CATEGORIES:Local Administration
ORGANIZER;CN="Thorney Parish Council":MAILTO:clerk@thorneypc.co.uk
END:VEVENT
BEGIN:VEVENT
DTSTART;TZID=Europe/London:20300412T140000
DTEND;TZID=Europe/London:20300412T160000
DTSTAMP:20260423T112846
CREATED:20260206T204047Z
LAST-MODIFIED:20260206T204049Z
UID:10000701-1902232800-1902240000@www.thorneyparishcouncil.org.uk
SUMMARY:Warm Welcome
DESCRIPTION:A chat and refreshments at the Bedford Hall. Always free! \nAlso help from volunteers from Good Neighbours Rural Peterborough with smartphones\, laptops and tablets to support those starting to use newer teschnologies to access services and information online.
URL:https://www.thorneyparishcouncil.org.uk/event/warm-welcome-6/2030-04-12/
LOCATION:Bedford Hall\, The Tankyard\, Station Road\, Thorney\, Peterborough\, PE6 0QE\, United Kingdom
CATEGORIES:Social
END:VEVENT
BEGIN:VEVENT
DTSTART;TZID=Europe/London:20300414T103000
DTEND;TZID=Europe/London:20300414T120000
DTSTAMP:20260423T112846
CREATED:20250730T172019Z
LAST-MODIFIED:20250730T172019Z
UID:10001519-1902393000-1902398400@www.thorneyparishcouncil.org.uk
SUMMARY:New Hope Church
DESCRIPTION:Meets every week on Sunday morning at the Duke of Bedford School.  “We are the church for these challenging and difficult times\, and the church for the unchurched.  There’s no dress code or special conditions attached to visiting us and our meetings are always lively and family friendly.”
URL:https://www.thorneyparishcouncil.org.uk/event/fenlands-church-thorney-2/2030-04-14/
LOCATION:Duke of Bedford School\, Wisbech Road\, Thorney\, PE6 0ST
CATEGORIES:Religious,Service
END:VEVENT
BEGIN:VEVENT
DTSTART;TZID=Europe/London:20300414T110000
DTEND;TZID=Europe/London:20300414T120000
DTSTAMP:20260423T112846
CREATED:20250504T124119Z
LAST-MODIFIED:20250504T124121Z
UID:10000702-1902394800-1902398400@www.thorneyparishcouncil.org.uk
SUMMARY:Morning Worship
DESCRIPTION:A more accessible\, less formal service for everyone
URL:https://www.thorneyparishcouncil.org.uk/event/morning-worship-3/2030-04-14/
LOCATION:Thorney Abbey\, Abbey Place\, Thorney\, Peterborough\, PE6 0QA\, United Kingdom
CATEGORIES:Religious,Service
END:VEVENT
BEGIN:VEVENT
DTSTART;TZID=Europe/London:20300421T103000
DTEND;TZID=Europe/London:20300421T120000
DTSTAMP:20260423T112846
CREATED:20250730T172019Z
LAST-MODIFIED:20250730T172019Z
UID:10001520-1902997800-1903003200@www.thorneyparishcouncil.org.uk
SUMMARY:New Hope Church
DESCRIPTION:Meets every week on Sunday morning at the Duke of Bedford School.  “We are the church for these challenging and difficult times\, and the church for the unchurched.  There’s no dress code or special conditions attached to visiting us and our meetings are always lively and family friendly.”
URL:https://www.thorneyparishcouncil.org.uk/event/fenlands-church-thorney-2/2030-04-21/
LOCATION:Duke of Bedford School\, Wisbech Road\, Thorney\, PE6 0ST
CATEGORIES:Religious,Service
END:VEVENT
BEGIN:VEVENT
DTSTART;TZID=Europe/London:20300421T110000
DTEND;TZID=Europe/London:20300421T120000
DTSTAMP:20260423T112846
CREATED:20250323T204501Z
LAST-MODIFIED:20250504T124322Z
UID:10001899-1902999600-1903003200@www.thorneyparishcouncil.org.uk
SUMMARY:Thorney Abbey Sunday Worship
DESCRIPTION:A service of Holy Communion
URL:https://www.thorneyparishcouncil.org.uk/event/sung-eucharist-3/2030-04-21/
LOCATION:Thorney Abbey\, Abbey Place\, Thorney\, Peterborough\, PE6 0QA\, United Kingdom
CATEGORIES:Religious,Service
END:VEVENT
BEGIN:VEVENT
DTSTART;TZID=Europe/London:20300426T140000
DTEND;TZID=Europe/London:20300426T160000
DTSTAMP:20260423T112846
CREATED:20260206T204047Z
LAST-MODIFIED:20260206T204049Z
UID:10001930-1903442400-1903449600@www.thorneyparishcouncil.org.uk
SUMMARY:Warm Welcome
DESCRIPTION:A chat and refreshments at the Bedford Hall. Always free! \nAlso help from volunteers from Good Neighbours Rural Peterborough with smartphones\, laptops and tablets to support those starting to use newer teschnologies to access services and information online.
URL:https://www.thorneyparishcouncil.org.uk/event/warm-welcome-6/2030-04-26/
LOCATION:Bedford Hall\, The Tankyard\, Station Road\, Thorney\, Peterborough\, PE6 0QE\, United Kingdom
CATEGORIES:Social
END:VEVENT
BEGIN:VEVENT
DTSTART;TZID=Europe/London:20300428T103000
DTEND;TZID=Europe/London:20300428T120000
DTSTAMP:20260423T112846
CREATED:20250730T172019Z
LAST-MODIFIED:20250730T172019Z
UID:10001521-1903602600-1903608000@www.thorneyparishcouncil.org.uk
SUMMARY:New Hope Church
DESCRIPTION:Meets every week on Sunday morning at the Duke of Bedford School.  “We are the church for these challenging and difficult times\, and the church for the unchurched.  There’s no dress code or special conditions attached to visiting us and our meetings are always lively and family friendly.”
URL:https://www.thorneyparishcouncil.org.uk/event/fenlands-church-thorney-2/2030-04-28/
LOCATION:Duke of Bedford School\, Wisbech Road\, Thorney\, PE6 0ST
CATEGORIES:Religious,Service
END:VEVENT
BEGIN:VEVENT
DTSTART;TZID=Europe/London:20300505T103000
DTEND;TZID=Europe/London:20300505T120000
DTSTAMP:20260423T112846
CREATED:20250730T172019Z
LAST-MODIFIED:20250730T172019Z
UID:10001912-1904207400-1904212800@www.thorneyparishcouncil.org.uk
SUMMARY:New Hope Church
DESCRIPTION:Meets every week on Sunday morning at the Duke of Bedford School.  “We are the church for these challenging and difficult times\, and the church for the unchurched.  There’s no dress code or special conditions attached to visiting us and our meetings are always lively and family friendly.”
URL:https://www.thorneyparishcouncil.org.uk/event/fenlands-church-thorney-2/2030-05-05/
LOCATION:Duke of Bedford School\, Wisbech Road\, Thorney\, PE6 0ST
CATEGORIES:Religious,Service
END:VEVENT
BEGIN:VEVENT
DTSTART;TZID=Europe/London:20300510T140000
DTEND;TZID=Europe/London:20300510T160000
DTSTAMP:20260423T112846
CREATED:20260206T204047Z
LAST-MODIFIED:20260206T204049Z
UID:10001931-1904652000-1904659200@www.thorneyparishcouncil.org.uk
SUMMARY:Warm Welcome
DESCRIPTION:A chat and refreshments at the Bedford Hall. Always free! \nAlso help from volunteers from Good Neighbours Rural Peterborough with smartphones\, laptops and tablets to support those starting to use newer teschnologies to access services and information online.
URL:https://www.thorneyparishcouncil.org.uk/event/warm-welcome-6/2030-05-10/
LOCATION:Bedford Hall\, The Tankyard\, Station Road\, Thorney\, Peterborough\, PE6 0QE\, United Kingdom
CATEGORIES:Social
END:VEVENT
BEGIN:VEVENT
DTSTART;TZID=Europe/London:20300512T103000
DTEND;TZID=Europe/London:20300512T120000
DTSTAMP:20260423T112846
CREATED:20250730T172019Z
LAST-MODIFIED:20250730T172019Z
UID:10001913-1904812200-1904817600@www.thorneyparishcouncil.org.uk
SUMMARY:New Hope Church
DESCRIPTION:Meets every week on Sunday morning at the Duke of Bedford School.  “We are the church for these challenging and difficult times\, and the church for the unchurched.  There’s no dress code or special conditions attached to visiting us and our meetings are always lively and family friendly.”
URL:https://www.thorneyparishcouncil.org.uk/event/fenlands-church-thorney-2/2030-05-12/
LOCATION:Duke of Bedford School\, Wisbech Road\, Thorney\, PE6 0ST
CATEGORIES:Religious,Service
END:VEVENT
BEGIN:VEVENT
DTSTART;TZID=Europe/London:20300512T110000
DTEND;TZID=Europe/London:20300512T120000
DTSTAMP:20260423T112846
CREATED:20250504T124119Z
LAST-MODIFIED:20250504T124121Z
UID:10001945-1904814000-1904817600@www.thorneyparishcouncil.org.uk
SUMMARY:Morning Worship
DESCRIPTION:A more accessible\, less formal service for everyone
URL:https://www.thorneyparishcouncil.org.uk/event/morning-worship-3/2030-05-12/
LOCATION:Thorney Abbey\, Abbey Place\, Thorney\, Peterborough\, PE6 0QA\, United Kingdom
CATEGORIES:Religious,Service
END:VEVENT
BEGIN:VEVENT
DTSTART;TZID=Europe/London:20300519T103000
DTEND;TZID=Europe/London:20300519T120000
DTSTAMP:20260423T112846
CREATED:20250730T172019Z
LAST-MODIFIED:20250730T172019Z
UID:10001914-1905417000-1905422400@www.thorneyparishcouncil.org.uk
SUMMARY:New Hope Church
DESCRIPTION:Meets every week on Sunday morning at the Duke of Bedford School.  “We are the church for these challenging and difficult times\, and the church for the unchurched.  There’s no dress code or special conditions attached to visiting us and our meetings are always lively and family friendly.”
URL:https://www.thorneyparishcouncil.org.uk/event/fenlands-church-thorney-2/2030-05-19/
LOCATION:Duke of Bedford School\, Wisbech Road\, Thorney\, PE6 0ST
CATEGORIES:Religious,Service
END:VEVENT
BEGIN:VEVENT
DTSTART;TZID=Europe/London:20300519T110000
DTEND;TZID=Europe/London:20300519T120000
DTSTAMP:20260423T112846
CREATED:20250323T204501Z
LAST-MODIFIED:20250504T124322Z
UID:10001981-1905418800-1905422400@www.thorneyparishcouncil.org.uk
SUMMARY:Thorney Abbey Sunday Worship
DESCRIPTION:A service of Holy Communion
URL:https://www.thorneyparishcouncil.org.uk/event/sung-eucharist-3/2030-05-19/
LOCATION:Thorney Abbey\, Abbey Place\, Thorney\, Peterborough\, PE6 0QA\, United Kingdom
CATEGORIES:Religious,Service
END:VEVENT
BEGIN:VEVENT
DTSTART;TZID=Europe/London:20300524T140000
DTEND;TZID=Europe/London:20300524T160000
DTSTAMP:20260423T112846
CREATED:20260206T204047Z
LAST-MODIFIED:20260206T204049Z
UID:10001932-1905861600-1905868800@www.thorneyparishcouncil.org.uk
SUMMARY:Warm Welcome
DESCRIPTION:A chat and refreshments at the Bedford Hall. Always free! \nAlso help from volunteers from Good Neighbours Rural Peterborough with smartphones\, laptops and tablets to support those starting to use newer teschnologies to access services and information online.
URL:https://www.thorneyparishcouncil.org.uk/event/warm-welcome-6/2030-05-24/
LOCATION:Bedford Hall\, The Tankyard\, Station Road\, Thorney\, Peterborough\, PE6 0QE\, United Kingdom
CATEGORIES:Social
END:VEVENT
BEGIN:VEVENT
DTSTART;TZID=Europe/London:20300526T103000
DTEND;TZID=Europe/London:20300526T120000
DTSTAMP:20260423T112846
CREATED:20250730T172019Z
LAST-MODIFIED:20250730T172019Z
UID:10001915-1906021800-1906027200@www.thorneyparishcouncil.org.uk
SUMMARY:New Hope Church
DESCRIPTION:Meets every week on Sunday morning at the Duke of Bedford School.  “We are the church for these challenging and difficult times\, and the church for the unchurched.  There’s no dress code or special conditions attached to visiting us and our meetings are always lively and family friendly.”
URL:https://www.thorneyparishcouncil.org.uk/event/fenlands-church-thorney-2/2030-05-26/
LOCATION:Duke of Bedford School\, Wisbech Road\, Thorney\, PE6 0ST
CATEGORIES:Religious,Service
END:VEVENT
BEGIN:VEVENT
DTSTART;TZID=Europe/London:20300602T103000
DTEND;TZID=Europe/London:20300602T120000
DTSTAMP:20260423T112846
CREATED:20250730T172019Z
LAST-MODIFIED:20250730T172019Z
UID:10001916-1906626600-1906632000@www.thorneyparishcouncil.org.uk
SUMMARY:New Hope Church
DESCRIPTION:Meets every week on Sunday morning at the Duke of Bedford School.  “We are the church for these challenging and difficult times\, and the church for the unchurched.  There’s no dress code or special conditions attached to visiting us and our meetings are always lively and family friendly.”
URL:https://www.thorneyparishcouncil.org.uk/event/fenlands-church-thorney-2/2030-06-02/
LOCATION:Duke of Bedford School\, Wisbech Road\, Thorney\, PE6 0ST
CATEGORIES:Religious,Service
END:VEVENT
BEGIN:VEVENT
DTSTART;TZID=Europe/London:20300607T140000
DTEND;TZID=Europe/London:20300607T160000
DTSTAMP:20260423T112846
CREATED:20260206T204047Z
LAST-MODIFIED:20260206T204049Z
UID:10001933-1907071200-1907078400@www.thorneyparishcouncil.org.uk
SUMMARY:Warm Welcome
DESCRIPTION:A chat and refreshments at the Bedford Hall. Always free! \nAlso help from volunteers from Good Neighbours Rural Peterborough with smartphones\, laptops and tablets to support those starting to use newer teschnologies to access services and information online.
URL:https://www.thorneyparishcouncil.org.uk/event/warm-welcome-6/2030-06-07/
LOCATION:Bedford Hall\, The Tankyard\, Station Road\, Thorney\, Peterborough\, PE6 0QE\, United Kingdom
CATEGORIES:Social
END:VEVENT
BEGIN:VEVENT
DTSTART;TZID=Europe/London:20300609T103000
DTEND;TZID=Europe/London:20300609T120000
DTSTAMP:20260423T112846
CREATED:20250730T172019Z
LAST-MODIFIED:20250730T172019Z
UID:10001917-1907231400-1907236800@www.thorneyparishcouncil.org.uk
SUMMARY:New Hope Church
DESCRIPTION:Meets every week on Sunday morning at the Duke of Bedford School.  “We are the church for these challenging and difficult times\, and the church for the unchurched.  There’s no dress code or special conditions attached to visiting us and our meetings are always lively and family friendly.”
URL:https://www.thorneyparishcouncil.org.uk/event/fenlands-church-thorney-2/2030-06-09/
LOCATION:Duke of Bedford School\, Wisbech Road\, Thorney\, PE6 0ST
CATEGORIES:Religious,Service
END:VEVENT
BEGIN:VEVENT
DTSTART;TZID=Europe/London:20300609T110000
DTEND;TZID=Europe/London:20300609T120000
DTSTAMP:20260423T112846
CREATED:20250504T124119Z
LAST-MODIFIED:20250504T124121Z
UID:10001946-1907233200-1907236800@www.thorneyparishcouncil.org.uk
SUMMARY:Morning Worship
DESCRIPTION:A more accessible\, less formal service for everyone
URL:https://www.thorneyparishcouncil.org.uk/event/morning-worship-3/2030-06-09/
LOCATION:Thorney Abbey\, Abbey Place\, Thorney\, Peterborough\, PE6 0QA\, United Kingdom
CATEGORIES:Religious,Service
END:VEVENT
BEGIN:VEVENT
DTSTART;TZID=Europe/London:20300616T103000
DTEND;TZID=Europe/London:20300616T120000
DTSTAMP:20260423T112846
CREATED:20250730T172019Z
LAST-MODIFIED:20250730T172019Z
UID:10001918-1907836200-1907841600@www.thorneyparishcouncil.org.uk
SUMMARY:New Hope Church
DESCRIPTION:Meets every week on Sunday morning at the Duke of Bedford School.  “We are the church for these challenging and difficult times\, and the church for the unchurched.  There’s no dress code or special conditions attached to visiting us and our meetings are always lively and family friendly.”
URL:https://www.thorneyparishcouncil.org.uk/event/fenlands-church-thorney-2/2030-06-16/
LOCATION:Duke of Bedford School\, Wisbech Road\, Thorney\, PE6 0ST
CATEGORIES:Religious,Service
END:VEVENT
BEGIN:VEVENT
DTSTART;TZID=Europe/London:20300616T110000
DTEND;TZID=Europe/London:20300616T120000
DTSTAMP:20260423T112846
CREATED:20250323T204501Z
LAST-MODIFIED:20250504T124322Z
UID:10001982-1907838000-1907841600@www.thorneyparishcouncil.org.uk
SUMMARY:Thorney Abbey Sunday Worship
DESCRIPTION:A service of Holy Communion
URL:https://www.thorneyparishcouncil.org.uk/event/sung-eucharist-3/2030-06-16/
LOCATION:Thorney Abbey\, Abbey Place\, Thorney\, Peterborough\, PE6 0QA\, United Kingdom
CATEGORIES:Religious,Service
END:VEVENT
BEGIN:VEVENT
DTSTART;TZID=Europe/London:20300621T140000
DTEND;TZID=Europe/London:20300621T160000
DTSTAMP:20260423T112846
CREATED:20260206T204047Z
LAST-MODIFIED:20260206T204049Z
UID:10001934-1908280800-1908288000@www.thorneyparishcouncil.org.uk
SUMMARY:Warm Welcome
DESCRIPTION:A chat and refreshments at the Bedford Hall. Always free! \nAlso help from volunteers from Good Neighbours Rural Peterborough with smartphones\, laptops and tablets to support those starting to use newer teschnologies to access services and information online.
URL:https://www.thorneyparishcouncil.org.uk/event/warm-welcome-6/2030-06-21/
LOCATION:Bedford Hall\, The Tankyard\, Station Road\, Thorney\, Peterborough\, PE6 0QE\, United Kingdom
CATEGORIES:Social
END:VEVENT
BEGIN:VEVENT
DTSTART;TZID=Europe/London:20300623T103000
DTEND;TZID=Europe/London:20300623T120000
DTSTAMP:20260423T112846
CREATED:20250730T172019Z
LAST-MODIFIED:20250730T172019Z
UID:10001919-1908441000-1908446400@www.thorneyparishcouncil.org.uk
SUMMARY:New Hope Church
DESCRIPTION:Meets every week on Sunday morning at the Duke of Bedford School.  “We are the church for these challenging and difficult times\, and the church for the unchurched.  There’s no dress code or special conditions attached to visiting us and our meetings are always lively and family friendly.”
URL:https://www.thorneyparishcouncil.org.uk/event/fenlands-church-thorney-2/2030-06-23/
LOCATION:Duke of Bedford School\, Wisbech Road\, Thorney\, PE6 0ST
CATEGORIES:Religious,Service
END:VEVENT
BEGIN:VEVENT
DTSTART;TZID=Europe/London:20300630T103000
DTEND;TZID=Europe/London:20300630T120000
DTSTAMP:20260423T112846
CREATED:20250730T172019Z
LAST-MODIFIED:20250730T172019Z
UID:10001920-1909045800-1909051200@www.thorneyparishcouncil.org.uk
SUMMARY:New Hope Church
DESCRIPTION:Meets every week on Sunday morning at the Duke of Bedford School.  “We are the church for these challenging and difficult times\, and the church for the unchurched.  There’s no dress code or special conditions attached to visiting us and our meetings are always lively and family friendly.”
URL:https://www.thorneyparishcouncil.org.uk/event/fenlands-church-thorney-2/2030-06-30/
LOCATION:Duke of Bedford School\, Wisbech Road\, Thorney\, PE6 0ST
CATEGORIES:Religious,Service
END:VEVENT
END:VCALENDAR