BEGIN:VCALENDAR
VERSION:2.0
PRODID:-//Thorney Parish Council - ECPv6.15.20//NONSGML v1.0//EN
CALSCALE:GREGORIAN
METHOD:PUBLISH
X-WR-CALNAME:Thorney Parish Council
X-ORIGINAL-URL:https://www.thorneyparishcouncil.org.uk
X-WR-CALDESC:Events for Thorney Parish Council
REFRESH-INTERVAL;VALUE=DURATION:PT1H
X-Robots-Tag:noindex
X-PUBLISHED-TTL:PT1H
BEGIN:VTIMEZONE
TZID:Europe/London
BEGIN:DAYLIGHT
TZOFFSETFROM:+0000
TZOFFSETTO:+0100
TZNAME:BST
DTSTART:20290325T010000
END:DAYLIGHT
BEGIN:STANDARD
TZOFFSETFROM:+0100
TZOFFSETTO:+0000
TZNAME:GMT
DTSTART:20291028T010000
END:STANDARD
BEGIN:DAYLIGHT
TZOFFSETFROM:+0000
TZOFFSETTO:+0100
TZNAME:BST
DTSTART:20300331T010000
END:DAYLIGHT
BEGIN:STANDARD
TZOFFSETFROM:+0100
TZOFFSETTO:+0000
TZNAME:GMT
DTSTART:20301027T010000
END:STANDARD
BEGIN:DAYLIGHT
TZOFFSETFROM:+0000
TZOFFSETTO:+0100
TZNAME:BST
DTSTART:20310330T010000
END:DAYLIGHT
BEGIN:STANDARD
TZOFFSETFROM:+0100
TZOFFSETTO:+0000
TZNAME:GMT
DTSTART:20311026T010000
END:STANDARD
END:VTIMEZONE
BEGIN:VEVENT
DTSTART;TZID=Europe/London:20300215T140000
DTEND;TZID=Europe/London:20300215T160000
DTSTAMP:20260423T104758
CREATED:20260206T204047Z
LAST-MODIFIED:20260206T204049Z
UID:10000697-1897394400-1897401600@www.thorneyparishcouncil.org.uk
SUMMARY:Warm Welcome
DESCRIPTION:A chat and refreshments at the Bedford Hall. Always free! \nAlso help from volunteers from Good Neighbours Rural Peterborough with smartphones\, laptops and tablets to support those starting to use newer teschnologies to access services and information online.
URL:https://www.thorneyparishcouncil.org.uk/event/warm-welcome-6/2030-02-15/
LOCATION:Bedford Hall\, The Tankyard\, Station Road\, Thorney\, Peterborough\, PE6 0QE\, United Kingdom
CATEGORIES:Social
END:VEVENT
BEGIN:VEVENT
DTSTART;TZID=Europe/London:20300217T103000
DTEND;TZID=Europe/London:20300217T120000
DTSTAMP:20260423T104758
CREATED:20250730T172019Z
LAST-MODIFIED:20250730T172019Z
UID:10001511-1897554600-1897560000@www.thorneyparishcouncil.org.uk
SUMMARY:New Hope Church
DESCRIPTION:Meets every week on Sunday morning at the Duke of Bedford School.  “We are the church for these challenging and difficult times\, and the church for the unchurched.  There’s no dress code or special conditions attached to visiting us and our meetings are always lively and family friendly.”
URL:https://www.thorneyparishcouncil.org.uk/event/fenlands-church-thorney-2/2030-02-17/
LOCATION:Duke of Bedford School\, Wisbech Road\, Thorney\, PE6 0ST
CATEGORIES:Religious,Service
END:VEVENT
BEGIN:VEVENT
DTSTART;TZID=Europe/London:20300217T110000
DTEND;TZID=Europe/London:20300217T120000
DTSTAMP:20260423T104758
CREATED:20250323T204501Z
LAST-MODIFIED:20250504T124322Z
UID:10000560-1897556400-1897560000@www.thorneyparishcouncil.org.uk
SUMMARY:Thorney Abbey Sunday Worship
DESCRIPTION:A service of Holy Communion
URL:https://www.thorneyparishcouncil.org.uk/event/sung-eucharist-3/2030-02-17/
LOCATION:Thorney Abbey\, Abbey Place\, Thorney\, Peterborough\, PE6 0QA\, United Kingdom
CATEGORIES:Religious,Service
END:VEVENT
BEGIN:VEVENT
DTSTART;TZID=Europe/London:20300224T103000
DTEND;TZID=Europe/London:20300224T120000
DTSTAMP:20260423T104758
CREATED:20250730T172019Z
LAST-MODIFIED:20250730T172019Z
UID:10001512-1898159400-1898164800@www.thorneyparishcouncil.org.uk
SUMMARY:New Hope Church
DESCRIPTION:Meets every week on Sunday morning at the Duke of Bedford School.  “We are the church for these challenging and difficult times\, and the church for the unchurched.  There’s no dress code or special conditions attached to visiting us and our meetings are always lively and family friendly.”
URL:https://www.thorneyparishcouncil.org.uk/event/fenlands-church-thorney-2/2030-02-24/
LOCATION:Duke of Bedford School\, Wisbech Road\, Thorney\, PE6 0ST
CATEGORIES:Religious,Service
END:VEVENT
BEGIN:VEVENT
DTSTART;TZID=Europe/London:20300224T110000
DTEND;TZID=Europe/London:20300224T120000
DTSTAMP:20260423T104758
CREATED:20250323T203242Z
LAST-MODIFIED:20250323T203242Z
UID:10000439-1898161200-1898164800@www.thorneyparishcouncil.org.uk
SUMMARY:Morning Worship with Holy Communion
DESCRIPTION:
URL:https://www.thorneyparishcouncil.org.uk/event/morning-worship-with-holy-communion-2/2030-02-24/
LOCATION:Thorney Abbey\, Abbey Place\, Thorney\, Peterborough\, PE6 0QA\, United Kingdom
CATEGORIES:Religious,Service
END:VEVENT
BEGIN:VEVENT
DTSTART;TZID=Europe/London:20300224T170000
DTEND;TZID=Europe/London:20300224T190000
DTSTAMP:20260423T104758
CREATED:20250211T124651Z
LAST-MODIFIED:20250323T192048Z
UID:10000377-1898182800-1898190000@www.thorneyparishcouncil.org.uk
SUMMARY:Sunday Quiz
DESCRIPTION:Test your knowledge at Thorney Exservicemen’s Club monthly quiz.
URL:https://www.thorneyparishcouncil.org.uk/event/sunday-quiz/2030-02-24/
CATEGORIES:Entertainment,Games,Quiz
END:VEVENT
BEGIN:VEVENT
DTSTART;TZID=Europe/London:20300301T140000
DTEND;TZID=Europe/London:20300301T160000
DTSTAMP:20260423T104758
CREATED:20260206T204047Z
LAST-MODIFIED:20260206T204049Z
UID:10000698-1898604000-1898611200@www.thorneyparishcouncil.org.uk
SUMMARY:Warm Welcome
DESCRIPTION:A chat and refreshments at the Bedford Hall. Always free! \nAlso help from volunteers from Good Neighbours Rural Peterborough with smartphones\, laptops and tablets to support those starting to use newer teschnologies to access services and information online.
URL:https://www.thorneyparishcouncil.org.uk/event/warm-welcome-6/2030-03-01/
LOCATION:Bedford Hall\, The Tankyard\, Station Road\, Thorney\, Peterborough\, PE6 0QE\, United Kingdom
CATEGORIES:Social
END:VEVENT
BEGIN:VEVENT
DTSTART;TZID=Europe/London:20300303T103000
DTEND;TZID=Europe/London:20300303T120000
DTSTAMP:20260423T104758
CREATED:20250730T172019Z
LAST-MODIFIED:20250730T172019Z
UID:10001513-1898764200-1898769600@www.thorneyparishcouncil.org.uk
SUMMARY:New Hope Church
DESCRIPTION:Meets every week on Sunday morning at the Duke of Bedford School.  “We are the church for these challenging and difficult times\, and the church for the unchurched.  There’s no dress code or special conditions attached to visiting us and our meetings are always lively and family friendly.”
URL:https://www.thorneyparishcouncil.org.uk/event/fenlands-church-thorney-2/2030-03-03/
LOCATION:Duke of Bedford School\, Wisbech Road\, Thorney\, PE6 0ST
CATEGORIES:Religious,Service
END:VEVENT
BEGIN:VEVENT
DTSTART;TZID=Europe/London:20300303T110000
DTEND;TZID=Europe/London:20300303T120000
DTSTAMP:20260423T104758
CREATED:20250503T190245Z
LAST-MODIFIED:20250503T190245Z
UID:10001897-1898766000-1898769600@www.thorneyparishcouncil.org.uk
SUMMARY:Thorney Abbey: Sung Eucharist
DESCRIPTION:A Communion service at the Abbey
URL:https://www.thorneyparishcouncil.org.uk/event/sung-eucharist-2-2/2030-03-03/
CATEGORIES:Religious,Service
END:VEVENT
BEGIN:VEVENT
DTSTART;TZID=Europe/London:20300303T160000
DTEND;TZID=Europe/London:20300303T173000
DTSTAMP:20260423T104758
CREATED:20250323T203731Z
LAST-MODIFIED:20250323T203731Z
UID:10000499-1898784000-1898789400@www.thorneyparishcouncil.org.uk
SUMMARY:Messy Church
DESCRIPTION:Stories\, games and activities for all the family.
URL:https://www.thorneyparishcouncil.org.uk/event/messy-church/2030-03-03/
LOCATION:Bedford Hall\, The Tankyard\, Station Road\, Thorney\, Peterborough\, PE6 0QE\, United Kingdom
CATEGORIES:Religious
END:VEVENT
BEGIN:VEVENT
DTSTART;TZID=Europe/London:20300310T103000
DTEND;TZID=Europe/London:20300310T120000
DTSTAMP:20260423T104758
CREATED:20250730T172019Z
LAST-MODIFIED:20250730T172019Z
UID:10001514-1899369000-1899374400@www.thorneyparishcouncil.org.uk
SUMMARY:New Hope Church
DESCRIPTION:Meets every week on Sunday morning at the Duke of Bedford School.  “We are the church for these challenging and difficult times\, and the church for the unchurched.  There’s no dress code or special conditions attached to visiting us and our meetings are always lively and family friendly.”
URL:https://www.thorneyparishcouncil.org.uk/event/fenlands-church-thorney-2/2030-03-10/
LOCATION:Duke of Bedford School\, Wisbech Road\, Thorney\, PE6 0ST
CATEGORIES:Religious,Service
END:VEVENT
BEGIN:VEVENT
DTSTART;TZID=Europe/London:20300310T110000
DTEND;TZID=Europe/London:20300310T120000
DTSTAMP:20260423T104758
CREATED:20250504T124119Z
LAST-MODIFIED:20250504T124121Z
UID:10000559-1899370800-1899374400@www.thorneyparishcouncil.org.uk
SUMMARY:Morning Worship
DESCRIPTION:A more accessible\, less formal service for everyone
URL:https://www.thorneyparishcouncil.org.uk/event/morning-worship-3/2030-03-10/
LOCATION:Thorney Abbey\, Abbey Place\, Thorney\, Peterborough\, PE6 0QA\, United Kingdom
CATEGORIES:Religious,Service
END:VEVENT
BEGIN:VEVENT
DTSTART;TZID=Europe/London:20300311T190000
DTEND;TZID=Europe/London:20300311T210000
DTSTAMP:20260423T104758
CREATED:20250425T191757Z
LAST-MODIFIED:20250425T191757Z
UID:10001257-1899486000-1899493200@www.thorneyparishcouncil.org.uk
SUMMARY:Monthly meeting of Thorney Parish Council
DESCRIPTION:This includes a time for public participation at the beginning each month. Please arrive before the meeting starts\, then you will be able to ask your question or make your views heard at 7pm.
URL:https://www.thorneyparishcouncil.org.uk/event/monthly-meeting-of-thorney-parish-council/2030-03-11/
LOCATION:Parish Room\, eastern end of the Bedford Hall\, The Tankyard\, Station Road\, Thorney\, PE6 0QE
CATEGORIES:Local Administration
ORGANIZER;CN="Thorney Parish Council":MAILTO:clerk@thorneypc.co.uk
END:VEVENT
BEGIN:VEVENT
DTSTART;TZID=Europe/London:20300315T140000
DTEND;TZID=Europe/London:20300315T160000
DTSTAMP:20260423T104758
CREATED:20260206T204047Z
LAST-MODIFIED:20260206T204049Z
UID:10000699-1899813600-1899820800@www.thorneyparishcouncil.org.uk
SUMMARY:Warm Welcome
DESCRIPTION:A chat and refreshments at the Bedford Hall. Always free! \nAlso help from volunteers from Good Neighbours Rural Peterborough with smartphones\, laptops and tablets to support those starting to use newer teschnologies to access services and information online.
URL:https://www.thorneyparishcouncil.org.uk/event/warm-welcome-6/2030-03-15/
LOCATION:Bedford Hall\, The Tankyard\, Station Road\, Thorney\, Peterborough\, PE6 0QE\, United Kingdom
CATEGORIES:Social
END:VEVENT
BEGIN:VEVENT
DTSTART;TZID=Europe/London:20300317T103000
DTEND;TZID=Europe/London:20300317T120000
DTSTAMP:20260423T104758
CREATED:20250730T172019Z
LAST-MODIFIED:20250730T172019Z
UID:10001515-1899973800-1899979200@www.thorneyparishcouncil.org.uk
SUMMARY:New Hope Church
DESCRIPTION:Meets every week on Sunday morning at the Duke of Bedford School.  “We are the church for these challenging and difficult times\, and the church for the unchurched.  There’s no dress code or special conditions attached to visiting us and our meetings are always lively and family friendly.”
URL:https://www.thorneyparishcouncil.org.uk/event/fenlands-church-thorney-2/2030-03-17/
LOCATION:Duke of Bedford School\, Wisbech Road\, Thorney\, PE6 0ST
CATEGORIES:Religious,Service
END:VEVENT
BEGIN:VEVENT
DTSTART;TZID=Europe/London:20300317T110000
DTEND;TZID=Europe/London:20300317T120000
DTSTAMP:20260423T104758
CREATED:20250323T204501Z
LAST-MODIFIED:20250504T124322Z
UID:10000561-1899975600-1899979200@www.thorneyparishcouncil.org.uk
SUMMARY:Thorney Abbey Sunday Worship
DESCRIPTION:A service of Holy Communion
URL:https://www.thorneyparishcouncil.org.uk/event/sung-eucharist-3/2030-03-17/
LOCATION:Thorney Abbey\, Abbey Place\, Thorney\, Peterborough\, PE6 0QA\, United Kingdom
CATEGORIES:Religious,Service
END:VEVENT
BEGIN:VEVENT
DTSTART;TZID=Europe/London:20300324T103000
DTEND;TZID=Europe/London:20300324T120000
DTSTAMP:20260423T104758
CREATED:20250730T172019Z
LAST-MODIFIED:20250730T172019Z
UID:10001516-1900578600-1900584000@www.thorneyparishcouncil.org.uk
SUMMARY:New Hope Church
DESCRIPTION:Meets every week on Sunday morning at the Duke of Bedford School.  “We are the church for these challenging and difficult times\, and the church for the unchurched.  There’s no dress code or special conditions attached to visiting us and our meetings are always lively and family friendly.”
URL:https://www.thorneyparishcouncil.org.uk/event/fenlands-church-thorney-2/2030-03-24/
LOCATION:Duke of Bedford School\, Wisbech Road\, Thorney\, PE6 0ST
CATEGORIES:Religious,Service
END:VEVENT
BEGIN:VEVENT
DTSTART;TZID=Europe/London:20300329T140000
DTEND;TZID=Europe/London:20300329T160000
DTSTAMP:20260423T104758
CREATED:20260206T204047Z
LAST-MODIFIED:20260206T204049Z
UID:10000700-1901023200-1901030400@www.thorneyparishcouncil.org.uk
SUMMARY:Warm Welcome
DESCRIPTION:A chat and refreshments at the Bedford Hall. Always free! \nAlso help from volunteers from Good Neighbours Rural Peterborough with smartphones\, laptops and tablets to support those starting to use newer teschnologies to access services and information online.
URL:https://www.thorneyparishcouncil.org.uk/event/warm-welcome-6/2030-03-29/
LOCATION:Bedford Hall\, The Tankyard\, Station Road\, Thorney\, Peterborough\, PE6 0QE\, United Kingdom
CATEGORIES:Social
END:VEVENT
BEGIN:VEVENT
DTSTART;TZID=Europe/London:20300331T103000
DTEND;TZID=Europe/London:20300331T120000
DTSTAMP:20260423T104758
CREATED:20250730T172019Z
LAST-MODIFIED:20250730T172019Z
UID:10001517-1901183400-1901188800@www.thorneyparishcouncil.org.uk
SUMMARY:New Hope Church
DESCRIPTION:Meets every week on Sunday morning at the Duke of Bedford School.  “We are the church for these challenging and difficult times\, and the church for the unchurched.  There’s no dress code or special conditions attached to visiting us and our meetings are always lively and family friendly.”
URL:https://www.thorneyparishcouncil.org.uk/event/fenlands-church-thorney-2/2030-03-31/
LOCATION:Duke of Bedford School\, Wisbech Road\, Thorney\, PE6 0ST
CATEGORIES:Religious,Service
END:VEVENT
BEGIN:VEVENT
DTSTART;TZID=Europe/London:20300407T103000
DTEND;TZID=Europe/London:20300407T120000
DTSTAMP:20260423T104758
CREATED:20250730T172019Z
LAST-MODIFIED:20250730T172019Z
UID:10001518-1901788200-1901793600@www.thorneyparishcouncil.org.uk
SUMMARY:New Hope Church
DESCRIPTION:Meets every week on Sunday morning at the Duke of Bedford School.  “We are the church for these challenging and difficult times\, and the church for the unchurched.  There’s no dress code or special conditions attached to visiting us and our meetings are always lively and family friendly.”
URL:https://www.thorneyparishcouncil.org.uk/event/fenlands-church-thorney-2/2030-04-07/
LOCATION:Duke of Bedford School\, Wisbech Road\, Thorney\, PE6 0ST
CATEGORIES:Religious,Service
END:VEVENT
BEGIN:VEVENT
DTSTART;TZID=Europe/London:20300407T110000
DTEND;TZID=Europe/London:20300407T120000
DTSTAMP:20260423T104758
CREATED:20250503T190245Z
LAST-MODIFIED:20250503T190245Z
UID:10001898-1901790000-1901793600@www.thorneyparishcouncil.org.uk
SUMMARY:Thorney Abbey: Sung Eucharist
DESCRIPTION:A Communion service at the Abbey
URL:https://www.thorneyparishcouncil.org.uk/event/sung-eucharist-2-2/2030-04-07/
CATEGORIES:Religious,Service
END:VEVENT
BEGIN:VEVENT
DTSTART;TZID=Europe/London:20300408T190000
DTEND;TZID=Europe/London:20300408T210000
DTSTAMP:20260423T104758
CREATED:20250425T191757Z
LAST-MODIFIED:20250425T191757Z
UID:10001258-1901905200-1901912400@www.thorneyparishcouncil.org.uk
SUMMARY:Monthly meeting of Thorney Parish Council
DESCRIPTION:This includes a time for public participation at the beginning each month. Please arrive before the meeting starts\, then you will be able to ask your question or make your views heard at 7pm.
URL:https://www.thorneyparishcouncil.org.uk/event/monthly-meeting-of-thorney-parish-council/2030-04-08/
LOCATION:Parish Room\, eastern end of the Bedford Hall\, The Tankyard\, Station Road\, Thorney\, PE6 0QE
CATEGORIES:Local Administration
ORGANIZER;CN="Thorney Parish Council":MAILTO:clerk@thorneypc.co.uk
END:VEVENT
BEGIN:VEVENT
DTSTART;TZID=Europe/London:20300412T140000
DTEND;TZID=Europe/London:20300412T160000
DTSTAMP:20260423T104758
CREATED:20260206T204047Z
LAST-MODIFIED:20260206T204049Z
UID:10000701-1902232800-1902240000@www.thorneyparishcouncil.org.uk
SUMMARY:Warm Welcome
DESCRIPTION:A chat and refreshments at the Bedford Hall. Always free! \nAlso help from volunteers from Good Neighbours Rural Peterborough with smartphones\, laptops and tablets to support those starting to use newer teschnologies to access services and information online.
URL:https://www.thorneyparishcouncil.org.uk/event/warm-welcome-6/2030-04-12/
LOCATION:Bedford Hall\, The Tankyard\, Station Road\, Thorney\, Peterborough\, PE6 0QE\, United Kingdom
CATEGORIES:Social
END:VEVENT
BEGIN:VEVENT
DTSTART;TZID=Europe/London:20300414T103000
DTEND;TZID=Europe/London:20300414T120000
DTSTAMP:20260423T104758
CREATED:20250730T172019Z
LAST-MODIFIED:20250730T172019Z
UID:10001519-1902393000-1902398400@www.thorneyparishcouncil.org.uk
SUMMARY:New Hope Church
DESCRIPTION:Meets every week on Sunday morning at the Duke of Bedford School.  “We are the church for these challenging and difficult times\, and the church for the unchurched.  There’s no dress code or special conditions attached to visiting us and our meetings are always lively and family friendly.”
URL:https://www.thorneyparishcouncil.org.uk/event/fenlands-church-thorney-2/2030-04-14/
LOCATION:Duke of Bedford School\, Wisbech Road\, Thorney\, PE6 0ST
CATEGORIES:Religious,Service
END:VEVENT
BEGIN:VEVENT
DTSTART;TZID=Europe/London:20300414T110000
DTEND;TZID=Europe/London:20300414T120000
DTSTAMP:20260423T104758
CREATED:20250504T124119Z
LAST-MODIFIED:20250504T124121Z
UID:10000702-1902394800-1902398400@www.thorneyparishcouncil.org.uk
SUMMARY:Morning Worship
DESCRIPTION:A more accessible\, less formal service for everyone
URL:https://www.thorneyparishcouncil.org.uk/event/morning-worship-3/2030-04-14/
LOCATION:Thorney Abbey\, Abbey Place\, Thorney\, Peterborough\, PE6 0QA\, United Kingdom
CATEGORIES:Religious,Service
END:VEVENT
BEGIN:VEVENT
DTSTART;TZID=Europe/London:20300421T103000
DTEND;TZID=Europe/London:20300421T120000
DTSTAMP:20260423T104758
CREATED:20250730T172019Z
LAST-MODIFIED:20250730T172019Z
UID:10001520-1902997800-1903003200@www.thorneyparishcouncil.org.uk
SUMMARY:New Hope Church
DESCRIPTION:Meets every week on Sunday morning at the Duke of Bedford School.  “We are the church for these challenging and difficult times\, and the church for the unchurched.  There’s no dress code or special conditions attached to visiting us and our meetings are always lively and family friendly.”
URL:https://www.thorneyparishcouncil.org.uk/event/fenlands-church-thorney-2/2030-04-21/
LOCATION:Duke of Bedford School\, Wisbech Road\, Thorney\, PE6 0ST
CATEGORIES:Religious,Service
END:VEVENT
BEGIN:VEVENT
DTSTART;TZID=Europe/London:20300421T110000
DTEND;TZID=Europe/London:20300421T120000
DTSTAMP:20260423T104758
CREATED:20250323T204501Z
LAST-MODIFIED:20250504T124322Z
UID:10001899-1902999600-1903003200@www.thorneyparishcouncil.org.uk
SUMMARY:Thorney Abbey Sunday Worship
DESCRIPTION:A service of Holy Communion
URL:https://www.thorneyparishcouncil.org.uk/event/sung-eucharist-3/2030-04-21/
LOCATION:Thorney Abbey\, Abbey Place\, Thorney\, Peterborough\, PE6 0QA\, United Kingdom
CATEGORIES:Religious,Service
END:VEVENT
BEGIN:VEVENT
DTSTART;TZID=Europe/London:20300426T140000
DTEND;TZID=Europe/London:20300426T160000
DTSTAMP:20260423T104758
CREATED:20260206T204047Z
LAST-MODIFIED:20260206T204049Z
UID:10001930-1903442400-1903449600@www.thorneyparishcouncil.org.uk
SUMMARY:Warm Welcome
DESCRIPTION:A chat and refreshments at the Bedford Hall. Always free! \nAlso help from volunteers from Good Neighbours Rural Peterborough with smartphones\, laptops and tablets to support those starting to use newer teschnologies to access services and information online.
URL:https://www.thorneyparishcouncil.org.uk/event/warm-welcome-6/2030-04-26/
LOCATION:Bedford Hall\, The Tankyard\, Station Road\, Thorney\, Peterborough\, PE6 0QE\, United Kingdom
CATEGORIES:Social
END:VEVENT
BEGIN:VEVENT
DTSTART;TZID=Europe/London:20300428T103000
DTEND;TZID=Europe/London:20300428T120000
DTSTAMP:20260423T104758
CREATED:20250730T172019Z
LAST-MODIFIED:20250730T172019Z
UID:10001521-1903602600-1903608000@www.thorneyparishcouncil.org.uk
SUMMARY:New Hope Church
DESCRIPTION:Meets every week on Sunday morning at the Duke of Bedford School.  “We are the church for these challenging and difficult times\, and the church for the unchurched.  There’s no dress code or special conditions attached to visiting us and our meetings are always lively and family friendly.”
URL:https://www.thorneyparishcouncil.org.uk/event/fenlands-church-thorney-2/2030-04-28/
LOCATION:Duke of Bedford School\, Wisbech Road\, Thorney\, PE6 0ST
CATEGORIES:Religious,Service
END:VEVENT
BEGIN:VEVENT
DTSTART;TZID=Europe/London:20300505T103000
DTEND;TZID=Europe/London:20300505T120000
DTSTAMP:20260423T104758
CREATED:20250730T172019Z
LAST-MODIFIED:20250730T172019Z
UID:10001912-1904207400-1904212800@www.thorneyparishcouncil.org.uk
SUMMARY:New Hope Church
DESCRIPTION:Meets every week on Sunday morning at the Duke of Bedford School.  “We are the church for these challenging and difficult times\, and the church for the unchurched.  There’s no dress code or special conditions attached to visiting us and our meetings are always lively and family friendly.”
URL:https://www.thorneyparishcouncil.org.uk/event/fenlands-church-thorney-2/2030-05-05/
LOCATION:Duke of Bedford School\, Wisbech Road\, Thorney\, PE6 0ST
CATEGORIES:Religious,Service
END:VEVENT
END:VCALENDAR