BEGIN:VCALENDAR
VERSION:2.0
PRODID:-//Thorney Parish Council - ECPv6.15.20//NONSGML v1.0//EN
CALSCALE:GREGORIAN
METHOD:PUBLISH
X-ORIGINAL-URL:https://www.thorneyparishcouncil.org.uk
X-WR-CALDESC:Events for Thorney Parish Council
REFRESH-INTERVAL;VALUE=DURATION:PT1H
X-Robots-Tag:noindex
X-PUBLISHED-TTL:PT1H
BEGIN:VTIMEZONE
TZID:Europe/London
BEGIN:DAYLIGHT
TZOFFSETFROM:+0000
TZOFFSETTO:+0100
TZNAME:BST
DTSTART:20270328T010000
END:DAYLIGHT
BEGIN:STANDARD
TZOFFSETFROM:+0100
TZOFFSETTO:+0000
TZNAME:GMT
DTSTART:20271031T010000
END:STANDARD
BEGIN:DAYLIGHT
TZOFFSETFROM:+0000
TZOFFSETTO:+0100
TZNAME:BST
DTSTART:20280326T010000
END:DAYLIGHT
BEGIN:STANDARD
TZOFFSETFROM:+0100
TZOFFSETTO:+0000
TZNAME:GMT
DTSTART:20281029T010000
END:STANDARD
BEGIN:DAYLIGHT
TZOFFSETFROM:+0000
TZOFFSETTO:+0100
TZNAME:BST
DTSTART:20290325T010000
END:DAYLIGHT
BEGIN:STANDARD
TZOFFSETFROM:+0100
TZOFFSETTO:+0000
TZNAME:GMT
DTSTART:20291028T010000
END:STANDARD
END:VTIMEZONE
BEGIN:VEVENT
DTSTART;TZID=Europe/London:20280402T103000
DTEND;TZID=Europe/London:20280402T120000
DTSTAMP:20260422T011813
CREATED:20250730T172019Z
LAST-MODIFIED:20250730T172019Z
UID:10001413-1838284200-1838289600@www.thorneyparishcouncil.org.uk
SUMMARY:New Hope Church
DESCRIPTION:Meets every week on Sunday morning at the Duke of Bedford School.  “We are the church for these challenging and difficult times\, and the church for the unchurched.  There’s no dress code or special conditions attached to visiting us and our meetings are always lively and family friendly.”
URL:https://www.thorneyparishcouncil.org.uk/event/fenlands-church-thorney-2/2028-04-02/
LOCATION:Duke of Bedford School\, Wisbech Road\, Thorney\, PE6 0ST
CATEGORIES:Religious,Service
END:VEVENT
BEGIN:VEVENT
DTSTART;TZID=Europe/London:20280402T110000
DTEND;TZID=Europe/London:20280402T120000
DTSTAMP:20260422T011813
CREATED:20250503T190245Z
LAST-MODIFIED:20250503T190245Z
UID:10000220-1838286000-1838289600@www.thorneyparishcouncil.org.uk
SUMMARY:Thorney Abbey: Sung Eucharist
DESCRIPTION:A Communion service at the Abbey
URL:https://www.thorneyparishcouncil.org.uk/event/sung-eucharist-2-2/2028-04-02/
CATEGORIES:Religious,Service
END:VEVENT
BEGIN:VEVENT
DTSTART;TZID=Europe/London:20280402T160000
DTEND;TZID=Europe/London:20280402T173000
DTSTAMP:20260422T011813
CREATED:20250323T203731Z
LAST-MODIFIED:20250323T203731Z
UID:10000476-1838304000-1838309400@www.thorneyparishcouncil.org.uk
SUMMARY:Messy Church
DESCRIPTION:Stories\, games and activities for all the family.
URL:https://www.thorneyparishcouncil.org.uk/event/messy-church/2028-04-02/
LOCATION:Bedford Hall\, The Tankyard\, Station Road\, Thorney\, Peterborough\, PE6 0QE\, United Kingdom
CATEGORIES:Religious
END:VEVENT
BEGIN:VEVENT
DTSTART;TZID=Europe/London:20280409T103000
DTEND;TZID=Europe/London:20280409T120000
DTSTAMP:20260422T011813
CREATED:20250730T172019Z
LAST-MODIFIED:20250730T172019Z
UID:10001414-1838889000-1838894400@www.thorneyparishcouncil.org.uk
SUMMARY:New Hope Church
DESCRIPTION:Meets every week on Sunday morning at the Duke of Bedford School.  “We are the church for these challenging and difficult times\, and the church for the unchurched.  There’s no dress code or special conditions attached to visiting us and our meetings are always lively and family friendly.”
URL:https://www.thorneyparishcouncil.org.uk/event/fenlands-church-thorney-2/2028-04-09/
LOCATION:Duke of Bedford School\, Wisbech Road\, Thorney\, PE6 0ST
CATEGORIES:Religious,Service
END:VEVENT
BEGIN:VEVENT
DTSTART;TZID=Europe/London:20280409T110000
DTEND;TZID=Europe/London:20280409T120000
DTSTAMP:20260422T011813
CREATED:20250504T124119Z
LAST-MODIFIED:20250504T124121Z
UID:10000536-1838890800-1838894400@www.thorneyparishcouncil.org.uk
SUMMARY:Morning Worship
DESCRIPTION:A more accessible\, less formal service for everyone
URL:https://www.thorneyparishcouncil.org.uk/event/morning-worship-3/2028-04-09/
LOCATION:Thorney Abbey\, Abbey Place\, Thorney\, Peterborough\, PE6 0QA\, United Kingdom
CATEGORIES:Religious,Service
END:VEVENT
BEGIN:VEVENT
DTSTART;TZID=Europe/London:20280410T190000
DTEND;TZID=Europe/London:20280410T210000
DTSTAMP:20260422T011813
CREATED:20250425T191757Z
LAST-MODIFIED:20250425T191757Z
UID:10001234-1839006000-1839013200@www.thorneyparishcouncil.org.uk
SUMMARY:Monthly meeting of Thorney Parish Council
DESCRIPTION:This includes a time for public participation at the beginning each month. Please arrive before the meeting starts\, then you will be able to ask your question or make your views heard at 7pm.
URL:https://www.thorneyparishcouncil.org.uk/event/monthly-meeting-of-thorney-parish-council/2028-04-10/
LOCATION:Parish Room\, eastern end of the Bedford Hall\, The Tankyard\, Station Road\, Thorney\, PE6 0QE
CATEGORIES:Local Administration
ORGANIZER;CN="Thorney Parish Council":MAILTO:clerk@thorneypc.co.uk
END:VEVENT
BEGIN:VEVENT
DTSTART;TZID=Europe/London:20280413T190000
DTEND;TZID=Europe/London:20280413T220000
DTSTAMP:20260422T011813
CREATED:20250219T155239Z
LAST-MODIFIED:20250219T155239Z
UID:10000039-1839265200-1839276000@www.thorneyparishcouncil.org.uk
SUMMARY:Bingo
DESCRIPTION:Try your luck at our popular monthly club bingo! Doors open one hour before scheduled start time. Finsih time may vary.
URL:https://www.thorneyparishcouncil.org.uk/event/bingo/2028-04-13/
LOCATION:Thorney Ex-Servicemen’s Club\, 15 Station Road\, Thorney\, Peterborough\, PE6 0QE\, United Kingdom
CATEGORIES:Bingo,Entertainment,Games
ATTACH;FMTTYPE=image/jpeg:https://www.thorneyparishcouncil.org.uk/wp-content/uploads/2025/02/bingo.jpg
END:VEVENT
BEGIN:VEVENT
DTSTART;TZID=Europe/London:20280414T140000
DTEND;TZID=Europe/London:20280414T160000
DTSTAMP:20260422T011813
CREATED:20260206T204047Z
LAST-MODIFIED:20260206T204049Z
UID:10000649-1839333600-1839340800@www.thorneyparishcouncil.org.uk
SUMMARY:Warm Welcome
DESCRIPTION:A chat and refreshments at the Bedford Hall. Always free! \nAlso help from volunteers from Good Neighbours Rural Peterborough with smartphones\, laptops and tablets to support those starting to use newer teschnologies to access services and information online.
URL:https://www.thorneyparishcouncil.org.uk/event/warm-welcome-6/2028-04-14/
LOCATION:Bedford Hall\, The Tankyard\, Station Road\, Thorney\, Peterborough\, PE6 0QE\, United Kingdom
CATEGORIES:Social
END:VEVENT
BEGIN:VEVENT
DTSTART;TZID=Europe/London:20280416T103000
DTEND;TZID=Europe/London:20280416T120000
DTSTAMP:20260422T011813
CREATED:20250730T172019Z
LAST-MODIFIED:20250730T172019Z
UID:10001415-1839493800-1839499200@www.thorneyparishcouncil.org.uk
SUMMARY:New Hope Church
DESCRIPTION:Meets every week on Sunday morning at the Duke of Bedford School.  “We are the church for these challenging and difficult times\, and the church for the unchurched.  There’s no dress code or special conditions attached to visiting us and our meetings are always lively and family friendly.”
URL:https://www.thorneyparishcouncil.org.uk/event/fenlands-church-thorney-2/2028-04-16/
LOCATION:Duke of Bedford School\, Wisbech Road\, Thorney\, PE6 0ST
CATEGORIES:Religious,Service
END:VEVENT
BEGIN:VEVENT
DTSTART;TZID=Europe/London:20280416T110000
DTEND;TZID=Europe/London:20280416T120000
DTSTAMP:20260422T011813
CREATED:20250323T204501Z
LAST-MODIFIED:20250504T124322Z
UID:10000281-1839495600-1839499200@www.thorneyparishcouncil.org.uk
SUMMARY:Thorney Abbey Sunday Worship
DESCRIPTION:A service of Holy Communion
URL:https://www.thorneyparishcouncil.org.uk/event/sung-eucharist-3/2028-04-16/
LOCATION:Thorney Abbey\, Abbey Place\, Thorney\, Peterborough\, PE6 0QA\, United Kingdom
CATEGORIES:Religious,Service
END:VEVENT
BEGIN:VEVENT
DTSTART;TZID=Europe/London:20280423T103000
DTEND;TZID=Europe/London:20280423T120000
DTSTAMP:20260422T011813
CREATED:20250730T172019Z
LAST-MODIFIED:20250730T172019Z
UID:10001416-1840098600-1840104000@www.thorneyparishcouncil.org.uk
SUMMARY:New Hope Church
DESCRIPTION:Meets every week on Sunday morning at the Duke of Bedford School.  “We are the church for these challenging and difficult times\, and the church for the unchurched.  There’s no dress code or special conditions attached to visiting us and our meetings are always lively and family friendly.”
URL:https://www.thorneyparishcouncil.org.uk/event/fenlands-church-thorney-2/2028-04-23/
LOCATION:Duke of Bedford School\, Wisbech Road\, Thorney\, PE6 0ST
CATEGORIES:Religious,Service
END:VEVENT
BEGIN:VEVENT
DTSTART;TZID=Europe/London:20280423T110000
DTEND;TZID=Europe/London:20280423T120000
DTSTAMP:20260422T011813
CREATED:20250323T203242Z
LAST-MODIFIED:20250323T203242Z
UID:10000417-1840100400-1840104000@www.thorneyparishcouncil.org.uk
SUMMARY:Morning Worship with Holy Communion
DESCRIPTION:
URL:https://www.thorneyparishcouncil.org.uk/event/morning-worship-with-holy-communion-2/2028-04-23/
LOCATION:Thorney Abbey\, Abbey Place\, Thorney\, Peterborough\, PE6 0QA\, United Kingdom
CATEGORIES:Religious,Service
END:VEVENT
BEGIN:VEVENT
DTSTART;TZID=Europe/London:20280428T140000
DTEND;TZID=Europe/London:20280428T160000
DTSTAMP:20260422T011813
CREATED:20260206T204047Z
LAST-MODIFIED:20260206T204049Z
UID:10000650-1840543200-1840550400@www.thorneyparishcouncil.org.uk
SUMMARY:Warm Welcome
DESCRIPTION:A chat and refreshments at the Bedford Hall. Always free! \nAlso help from volunteers from Good Neighbours Rural Peterborough with smartphones\, laptops and tablets to support those starting to use newer teschnologies to access services and information online.
URL:https://www.thorneyparishcouncil.org.uk/event/warm-welcome-6/2028-04-28/
LOCATION:Bedford Hall\, The Tankyard\, Station Road\, Thorney\, Peterborough\, PE6 0QE\, United Kingdom
CATEGORIES:Social
END:VEVENT
BEGIN:VEVENT
DTSTART;TZID=Europe/London:20280430T103000
DTEND;TZID=Europe/London:20280430T120000
DTSTAMP:20260422T011813
CREATED:20250730T172019Z
LAST-MODIFIED:20250730T172019Z
UID:10001417-1840703400-1840708800@www.thorneyparishcouncil.org.uk
SUMMARY:New Hope Church
DESCRIPTION:Meets every week on Sunday morning at the Duke of Bedford School.  “We are the church for these challenging and difficult times\, and the church for the unchurched.  There’s no dress code or special conditions attached to visiting us and our meetings are always lively and family friendly.”
URL:https://www.thorneyparishcouncil.org.uk/event/fenlands-church-thorney-2/2028-04-30/
LOCATION:Duke of Bedford School\, Wisbech Road\, Thorney\, PE6 0ST
CATEGORIES:Religious,Service
END:VEVENT
BEGIN:VEVENT
DTSTART;TZID=Europe/London:20280430T170000
DTEND;TZID=Europe/London:20280430T190000
DTSTAMP:20260422T011813
CREATED:20250211T124651Z
LAST-MODIFIED:20250323T192048Z
UID:10000099-1840726800-1840734000@www.thorneyparishcouncil.org.uk
SUMMARY:Sunday Quiz
DESCRIPTION:Test your knowledge at Thorney Exservicemen’s Club monthly quiz.
URL:https://www.thorneyparishcouncil.org.uk/event/sunday-quiz/2028-04-30/
CATEGORIES:Entertainment,Games,Quiz
END:VEVENT
BEGIN:VEVENT
DTSTART;TZID=Europe/London:20280507T103000
DTEND;TZID=Europe/London:20280507T120000
DTSTAMP:20260422T011813
CREATED:20250730T172019Z
LAST-MODIFIED:20250730T172019Z
UID:10001418-1841308200-1841313600@www.thorneyparishcouncil.org.uk
SUMMARY:New Hope Church
DESCRIPTION:Meets every week on Sunday morning at the Duke of Bedford School.  “We are the church for these challenging and difficult times\, and the church for the unchurched.  There’s no dress code or special conditions attached to visiting us and our meetings are always lively and family friendly.”
URL:https://www.thorneyparishcouncil.org.uk/event/fenlands-church-thorney-2/2028-05-07/
LOCATION:Duke of Bedford School\, Wisbech Road\, Thorney\, PE6 0ST
CATEGORIES:Religious,Service
END:VEVENT
BEGIN:VEVENT
DTSTART;TZID=Europe/London:20280507T110000
DTEND;TZID=Europe/London:20280507T120000
DTSTAMP:20260422T011813
CREATED:20250503T190245Z
LAST-MODIFIED:20250503T190245Z
UID:10000221-1841310000-1841313600@www.thorneyparishcouncil.org.uk
SUMMARY:Thorney Abbey: Sung Eucharist
DESCRIPTION:A Communion service at the Abbey
URL:https://www.thorneyparishcouncil.org.uk/event/sung-eucharist-2-2/2028-05-07/
CATEGORIES:Religious,Service
END:VEVENT
BEGIN:VEVENT
DTSTART;TZID=Europe/London:20280507T160000
DTEND;TZID=Europe/London:20280507T173000
DTSTAMP:20260422T011813
CREATED:20250323T203731Z
LAST-MODIFIED:20250323T203731Z
UID:10000477-1841328000-1841333400@www.thorneyparishcouncil.org.uk
SUMMARY:Messy Church
DESCRIPTION:Stories\, games and activities for all the family.
URL:https://www.thorneyparishcouncil.org.uk/event/messy-church/2028-05-07/
LOCATION:Bedford Hall\, The Tankyard\, Station Road\, Thorney\, Peterborough\, PE6 0QE\, United Kingdom
CATEGORIES:Religious
END:VEVENT
BEGIN:VEVENT
DTSTART;TZID=Europe/London:20280508T190000
DTEND;TZID=Europe/London:20280508T210000
DTSTAMP:20260422T011813
CREATED:20250425T191757Z
LAST-MODIFIED:20250425T191757Z
UID:10001235-1841425200-1841432400@www.thorneyparishcouncil.org.uk
SUMMARY:Monthly meeting of Thorney Parish Council
DESCRIPTION:This includes a time for public participation at the beginning each month. Please arrive before the meeting starts\, then you will be able to ask your question or make your views heard at 7pm.
URL:https://www.thorneyparishcouncil.org.uk/event/monthly-meeting-of-thorney-parish-council/2028-05-08/
LOCATION:Parish Room\, eastern end of the Bedford Hall\, The Tankyard\, Station Road\, Thorney\, PE6 0QE
CATEGORIES:Local Administration
ORGANIZER;CN="Thorney Parish Council":MAILTO:clerk@thorneypc.co.uk
END:VEVENT
BEGIN:VEVENT
DTSTART;TZID=Europe/London:20280511T190000
DTEND;TZID=Europe/London:20280511T220000
DTSTAMP:20260422T011813
CREATED:20250219T155239Z
LAST-MODIFIED:20250219T155239Z
UID:10000040-1841684400-1841695200@www.thorneyparishcouncil.org.uk
SUMMARY:Bingo
DESCRIPTION:Try your luck at our popular monthly club bingo! Doors open one hour before scheduled start time. Finsih time may vary.
URL:https://www.thorneyparishcouncil.org.uk/event/bingo/2028-05-11/
LOCATION:Thorney Ex-Servicemen’s Club\, 15 Station Road\, Thorney\, Peterborough\, PE6 0QE\, United Kingdom
CATEGORIES:Bingo,Entertainment,Games
ATTACH;FMTTYPE=image/jpeg:https://www.thorneyparishcouncil.org.uk/wp-content/uploads/2025/02/bingo.jpg
END:VEVENT
BEGIN:VEVENT
DTSTART;TZID=Europe/London:20280512T140000
DTEND;TZID=Europe/London:20280512T160000
DTSTAMP:20260422T011813
CREATED:20260206T204047Z
LAST-MODIFIED:20260206T204049Z
UID:10000651-1841752800-1841760000@www.thorneyparishcouncil.org.uk
SUMMARY:Warm Welcome
DESCRIPTION:A chat and refreshments at the Bedford Hall. Always free! \nAlso help from volunteers from Good Neighbours Rural Peterborough with smartphones\, laptops and tablets to support those starting to use newer teschnologies to access services and information online.
URL:https://www.thorneyparishcouncil.org.uk/event/warm-welcome-6/2028-05-12/
LOCATION:Bedford Hall\, The Tankyard\, Station Road\, Thorney\, Peterborough\, PE6 0QE\, United Kingdom
CATEGORIES:Social
END:VEVENT
BEGIN:VEVENT
DTSTART;TZID=Europe/London:20280514T103000
DTEND;TZID=Europe/London:20280514T120000
DTSTAMP:20260422T011813
CREATED:20250730T172019Z
LAST-MODIFIED:20250730T172019Z
UID:10001419-1841913000-1841918400@www.thorneyparishcouncil.org.uk
SUMMARY:New Hope Church
DESCRIPTION:Meets every week on Sunday morning at the Duke of Bedford School.  “We are the church for these challenging and difficult times\, and the church for the unchurched.  There’s no dress code or special conditions attached to visiting us and our meetings are always lively and family friendly.”
URL:https://www.thorneyparishcouncil.org.uk/event/fenlands-church-thorney-2/2028-05-14/
LOCATION:Duke of Bedford School\, Wisbech Road\, Thorney\, PE6 0ST
CATEGORIES:Religious,Service
END:VEVENT
BEGIN:VEVENT
DTSTART;TZID=Europe/London:20280514T110000
DTEND;TZID=Europe/London:20280514T120000
DTSTAMP:20260422T011813
CREATED:20250504T124119Z
LAST-MODIFIED:20250504T124121Z
UID:10000537-1841914800-1841918400@www.thorneyparishcouncil.org.uk
SUMMARY:Morning Worship
DESCRIPTION:A more accessible\, less formal service for everyone
URL:https://www.thorneyparishcouncil.org.uk/event/morning-worship-3/2028-05-14/
LOCATION:Thorney Abbey\, Abbey Place\, Thorney\, Peterborough\, PE6 0QA\, United Kingdom
CATEGORIES:Religious,Service
END:VEVENT
BEGIN:VEVENT
DTSTART;TZID=Europe/London:20280521T103000
DTEND;TZID=Europe/London:20280521T120000
DTSTAMP:20260422T011813
CREATED:20250730T172019Z
LAST-MODIFIED:20250730T172019Z
UID:10001420-1842517800-1842523200@www.thorneyparishcouncil.org.uk
SUMMARY:New Hope Church
DESCRIPTION:Meets every week on Sunday morning at the Duke of Bedford School.  “We are the church for these challenging and difficult times\, and the church for the unchurched.  There’s no dress code or special conditions attached to visiting us and our meetings are always lively and family friendly.”
URL:https://www.thorneyparishcouncil.org.uk/event/fenlands-church-thorney-2/2028-05-21/
LOCATION:Duke of Bedford School\, Wisbech Road\, Thorney\, PE6 0ST
CATEGORIES:Religious,Service
END:VEVENT
BEGIN:VEVENT
DTSTART;TZID=Europe/London:20280521T110000
DTEND;TZID=Europe/London:20280521T120000
DTSTAMP:20260422T011813
CREATED:20250323T204501Z
LAST-MODIFIED:20250504T124322Z
UID:10000282-1842519600-1842523200@www.thorneyparishcouncil.org.uk
SUMMARY:Thorney Abbey Sunday Worship
DESCRIPTION:A service of Holy Communion
URL:https://www.thorneyparishcouncil.org.uk/event/sung-eucharist-3/2028-05-21/
LOCATION:Thorney Abbey\, Abbey Place\, Thorney\, Peterborough\, PE6 0QA\, United Kingdom
CATEGORIES:Religious,Service
END:VEVENT
BEGIN:VEVENT
DTSTART;TZID=Europe/London:20280526T140000
DTEND;TZID=Europe/London:20280526T160000
DTSTAMP:20260422T011813
CREATED:20260206T204047Z
LAST-MODIFIED:20260206T204049Z
UID:10000652-1842962400-1842969600@www.thorneyparishcouncil.org.uk
SUMMARY:Warm Welcome
DESCRIPTION:A chat and refreshments at the Bedford Hall. Always free! \nAlso help from volunteers from Good Neighbours Rural Peterborough with smartphones\, laptops and tablets to support those starting to use newer teschnologies to access services and information online.
URL:https://www.thorneyparishcouncil.org.uk/event/warm-welcome-6/2028-05-26/
LOCATION:Bedford Hall\, The Tankyard\, Station Road\, Thorney\, Peterborough\, PE6 0QE\, United Kingdom
CATEGORIES:Social
END:VEVENT
BEGIN:VEVENT
DTSTART;TZID=Europe/London:20280528T103000
DTEND;TZID=Europe/London:20280528T120000
DTSTAMP:20260422T011813
CREATED:20250730T172019Z
LAST-MODIFIED:20250730T172019Z
UID:10001421-1843122600-1843128000@www.thorneyparishcouncil.org.uk
SUMMARY:New Hope Church
DESCRIPTION:Meets every week on Sunday morning at the Duke of Bedford School.  “We are the church for these challenging and difficult times\, and the church for the unchurched.  There’s no dress code or special conditions attached to visiting us and our meetings are always lively and family friendly.”
URL:https://www.thorneyparishcouncil.org.uk/event/fenlands-church-thorney-2/2028-05-28/
LOCATION:Duke of Bedford School\, Wisbech Road\, Thorney\, PE6 0ST
CATEGORIES:Religious,Service
END:VEVENT
BEGIN:VEVENT
DTSTART;TZID=Europe/London:20280528T110000
DTEND;TZID=Europe/London:20280528T120000
DTSTAMP:20260422T011813
CREATED:20250323T203242Z
LAST-MODIFIED:20250323T203242Z
UID:10000418-1843124400-1843128000@www.thorneyparishcouncil.org.uk
SUMMARY:Morning Worship with Holy Communion
DESCRIPTION:
URL:https://www.thorneyparishcouncil.org.uk/event/morning-worship-with-holy-communion-2/2028-05-28/
LOCATION:Thorney Abbey\, Abbey Place\, Thorney\, Peterborough\, PE6 0QA\, United Kingdom
CATEGORIES:Religious,Service
END:VEVENT
BEGIN:VEVENT
DTSTART;TZID=Europe/London:20280528T170000
DTEND;TZID=Europe/London:20280528T190000
DTSTAMP:20260422T011813
CREATED:20250211T124651Z
LAST-MODIFIED:20250323T192048Z
UID:10000100-1843146000-1843153200@www.thorneyparishcouncil.org.uk
SUMMARY:Sunday Quiz
DESCRIPTION:Test your knowledge at Thorney Exservicemen’s Club monthly quiz.
URL:https://www.thorneyparishcouncil.org.uk/event/sunday-quiz/2028-05-28/
CATEGORIES:Entertainment,Games,Quiz
END:VEVENT
BEGIN:VEVENT
DTSTART;TZID=Europe/London:20280604T103000
DTEND;TZID=Europe/London:20280604T120000
DTSTAMP:20260422T011813
CREATED:20250730T172019Z
LAST-MODIFIED:20250730T172019Z
UID:10001422-1843727400-1843732800@www.thorneyparishcouncil.org.uk
SUMMARY:New Hope Church
DESCRIPTION:Meets every week on Sunday morning at the Duke of Bedford School.  “We are the church for these challenging and difficult times\, and the church for the unchurched.  There’s no dress code or special conditions attached to visiting us and our meetings are always lively and family friendly.”
URL:https://www.thorneyparishcouncil.org.uk/event/fenlands-church-thorney-2/2028-06-04/
LOCATION:Duke of Bedford School\, Wisbech Road\, Thorney\, PE6 0ST
CATEGORIES:Religious,Service
END:VEVENT
END:VCALENDAR