BEGIN:VCALENDAR
VERSION:2.0
PRODID:-//Thorney Parish Council - ECPv6.15.20//NONSGML v1.0//EN
CALSCALE:GREGORIAN
METHOD:PUBLISH
X-ORIGINAL-URL:https://www.thorneyparishcouncil.org.uk
X-WR-CALDESC:Events for Thorney Parish Council
REFRESH-INTERVAL;VALUE=DURATION:PT1H
X-Robots-Tag:noindex
X-PUBLISHED-TTL:PT1H
BEGIN:VTIMEZONE
TZID:Europe/London
BEGIN:DAYLIGHT
TZOFFSETFROM:+0000
TZOFFSETTO:+0100
TZNAME:BST
DTSTART:20270328T010000
END:DAYLIGHT
BEGIN:STANDARD
TZOFFSETFROM:+0100
TZOFFSETTO:+0000
TZNAME:GMT
DTSTART:20271031T010000
END:STANDARD
BEGIN:DAYLIGHT
TZOFFSETFROM:+0000
TZOFFSETTO:+0100
TZNAME:BST
DTSTART:20280326T010000
END:DAYLIGHT
BEGIN:STANDARD
TZOFFSETFROM:+0100
TZOFFSETTO:+0000
TZNAME:GMT
DTSTART:20281029T010000
END:STANDARD
BEGIN:DAYLIGHT
TZOFFSETFROM:+0000
TZOFFSETTO:+0100
TZNAME:BST
DTSTART:20290325T010000
END:DAYLIGHT
BEGIN:STANDARD
TZOFFSETFROM:+0100
TZOFFSETTO:+0000
TZNAME:GMT
DTSTART:20291028T010000
END:STANDARD
END:VTIMEZONE
BEGIN:VEVENT
DTSTART;TZID=Europe/London:20280102T160000
DTEND;TZID=Europe/London:20280102T173000
DTSTAMP:20260420T072821
CREATED:20250323T203731Z
LAST-MODIFIED:20250323T203731Z
UID:10000473-1830441600-1830447000@www.thorneyparishcouncil.org.uk
SUMMARY:Messy Church
DESCRIPTION:Stories\, games and activities for all the family.
URL:https://www.thorneyparishcouncil.org.uk/event/messy-church/2028-01-02/
LOCATION:Bedford Hall\, The Tankyard\, Station Road\, Thorney\, Peterborough\, PE6 0QE\, United Kingdom
CATEGORIES:Religious
END:VEVENT
BEGIN:VEVENT
DTSTART;TZID=Europe/London:20280107T140000
DTEND;TZID=Europe/London:20280107T160000
DTSTAMP:20260420T072821
CREATED:20260206T204047Z
LAST-MODIFIED:20260206T204049Z
UID:10000642-1830866400-1830873600@www.thorneyparishcouncil.org.uk
SUMMARY:Warm Welcome
DESCRIPTION:A chat and refreshments at the Bedford Hall. Always free! \nAlso help from volunteers from Good Neighbours Rural Peterborough with smartphones\, laptops and tablets to support those starting to use newer teschnologies to access services and information online.
URL:https://www.thorneyparishcouncil.org.uk/event/warm-welcome-6/2028-01-07/
LOCATION:Bedford Hall\, The Tankyard\, Station Road\, Thorney\, Peterborough\, PE6 0QE\, United Kingdom
CATEGORIES:Social
END:VEVENT
BEGIN:VEVENT
DTSTART;TZID=Europe/London:20280109T103000
DTEND;TZID=Europe/London:20280109T120000
DTSTAMP:20260420T072821
CREATED:20250730T172019Z
LAST-MODIFIED:20250730T172019Z
UID:10001401-1831026600-1831032000@www.thorneyparishcouncil.org.uk
SUMMARY:New Hope Church
DESCRIPTION:Meets every week on Sunday morning at the Duke of Bedford School.  “We are the church for these challenging and difficult times\, and the church for the unchurched.  There’s no dress code or special conditions attached to visiting us and our meetings are always lively and family friendly.”
URL:https://www.thorneyparishcouncil.org.uk/event/fenlands-church-thorney-2/2028-01-09/
LOCATION:Duke of Bedford School\, Wisbech Road\, Thorney\, PE6 0ST
CATEGORIES:Religious,Service
END:VEVENT
BEGIN:VEVENT
DTSTART;TZID=Europe/London:20280109T110000
DTEND;TZID=Europe/London:20280109T120000
DTSTAMP:20260420T072821
CREATED:20250504T124119Z
LAST-MODIFIED:20250504T124121Z
UID:10000533-1831028400-1831032000@www.thorneyparishcouncil.org.uk
SUMMARY:Morning Worship
DESCRIPTION:A more accessible\, less formal service for everyone
URL:https://www.thorneyparishcouncil.org.uk/event/morning-worship-3/2028-01-09/
LOCATION:Thorney Abbey\, Abbey Place\, Thorney\, Peterborough\, PE6 0QA\, United Kingdom
CATEGORIES:Religious,Service
END:VEVENT
BEGIN:VEVENT
DTSTART;TZID=Europe/London:20280110T190000
DTEND;TZID=Europe/London:20280110T210000
DTSTAMP:20260420T072821
CREATED:20250425T191757Z
LAST-MODIFIED:20250425T191757Z
UID:10001231-1831143600-1831150800@www.thorneyparishcouncil.org.uk
SUMMARY:Monthly meeting of Thorney Parish Council
DESCRIPTION:This includes a time for public participation at the beginning each month. Please arrive before the meeting starts\, then you will be able to ask your question or make your views heard at 7pm.
URL:https://www.thorneyparishcouncil.org.uk/event/monthly-meeting-of-thorney-parish-council/2028-01-10/
LOCATION:Parish Room\, eastern end of the Bedford Hall\, The Tankyard\, Station Road\, Thorney\, PE6 0QE
CATEGORIES:Local Administration
ORGANIZER;CN="Thorney Parish Council":MAILTO:clerk@thorneypc.co.uk
END:VEVENT
BEGIN:VEVENT
DTSTART;TZID=Europe/London:20280113T190000
DTEND;TZID=Europe/London:20280113T220000
DTSTAMP:20260420T072821
CREATED:20250219T155239Z
LAST-MODIFIED:20250219T155239Z
UID:10000036-1831402800-1831413600@www.thorneyparishcouncil.org.uk
SUMMARY:Bingo
DESCRIPTION:Try your luck at our popular monthly club bingo! Doors open one hour before scheduled start time. Finsih time may vary.
URL:https://www.thorneyparishcouncil.org.uk/event/bingo/2028-01-13/
LOCATION:Thorney Ex-Servicemen’s Club\, 15 Station Road\, Thorney\, Peterborough\, PE6 0QE\, United Kingdom
CATEGORIES:Bingo,Entertainment,Games
ATTACH;FMTTYPE=image/jpeg:https://www.thorneyparishcouncil.org.uk/wp-content/uploads/2025/02/bingo.jpg
END:VEVENT
BEGIN:VEVENT
DTSTART;TZID=Europe/London:20280116T103000
DTEND;TZID=Europe/London:20280116T120000
DTSTAMP:20260420T072821
CREATED:20250730T172019Z
LAST-MODIFIED:20250730T172019Z
UID:10001402-1831631400-1831636800@www.thorneyparishcouncil.org.uk
SUMMARY:New Hope Church
DESCRIPTION:Meets every week on Sunday morning at the Duke of Bedford School.  “We are the church for these challenging and difficult times\, and the church for the unchurched.  There’s no dress code or special conditions attached to visiting us and our meetings are always lively and family friendly.”
URL:https://www.thorneyparishcouncil.org.uk/event/fenlands-church-thorney-2/2028-01-16/
LOCATION:Duke of Bedford School\, Wisbech Road\, Thorney\, PE6 0ST
CATEGORIES:Religious,Service
END:VEVENT
BEGIN:VEVENT
DTSTART;TZID=Europe/London:20280116T110000
DTEND;TZID=Europe/London:20280116T120000
DTSTAMP:20260420T072821
CREATED:20250323T204501Z
LAST-MODIFIED:20250504T124322Z
UID:10000278-1831633200-1831636800@www.thorneyparishcouncil.org.uk
SUMMARY:Thorney Abbey Sunday Worship
DESCRIPTION:A service of Holy Communion
URL:https://www.thorneyparishcouncil.org.uk/event/sung-eucharist-3/2028-01-16/
LOCATION:Thorney Abbey\, Abbey Place\, Thorney\, Peterborough\, PE6 0QA\, United Kingdom
CATEGORIES:Religious,Service
END:VEVENT
BEGIN:VEVENT
DTSTART;TZID=Europe/London:20280121T140000
DTEND;TZID=Europe/London:20280121T160000
DTSTAMP:20260420T072821
CREATED:20260206T204047Z
LAST-MODIFIED:20260206T204049Z
UID:10000643-1832076000-1832083200@www.thorneyparishcouncil.org.uk
SUMMARY:Warm Welcome
DESCRIPTION:A chat and refreshments at the Bedford Hall. Always free! \nAlso help from volunteers from Good Neighbours Rural Peterborough with smartphones\, laptops and tablets to support those starting to use newer teschnologies to access services and information online.
URL:https://www.thorneyparishcouncil.org.uk/event/warm-welcome-6/2028-01-21/
LOCATION:Bedford Hall\, The Tankyard\, Station Road\, Thorney\, Peterborough\, PE6 0QE\, United Kingdom
CATEGORIES:Social
END:VEVENT
BEGIN:VEVENT
DTSTART;TZID=Europe/London:20280123T103000
DTEND;TZID=Europe/London:20280123T120000
DTSTAMP:20260420T072821
CREATED:20250730T172019Z
LAST-MODIFIED:20250730T172019Z
UID:10001403-1832236200-1832241600@www.thorneyparishcouncil.org.uk
SUMMARY:New Hope Church
DESCRIPTION:Meets every week on Sunday morning at the Duke of Bedford School.  “We are the church for these challenging and difficult times\, and the church for the unchurched.  There’s no dress code or special conditions attached to visiting us and our meetings are always lively and family friendly.”
URL:https://www.thorneyparishcouncil.org.uk/event/fenlands-church-thorney-2/2028-01-23/
LOCATION:Duke of Bedford School\, Wisbech Road\, Thorney\, PE6 0ST
CATEGORIES:Religious,Service
END:VEVENT
BEGIN:VEVENT
DTSTART;TZID=Europe/London:20280123T110000
DTEND;TZID=Europe/London:20280123T120000
DTSTAMP:20260420T072821
CREATED:20250323T203242Z
LAST-MODIFIED:20250323T203242Z
UID:10000414-1832238000-1832241600@www.thorneyparishcouncil.org.uk
SUMMARY:Morning Worship with Holy Communion
DESCRIPTION:
URL:https://www.thorneyparishcouncil.org.uk/event/morning-worship-with-holy-communion-2/2028-01-23/
LOCATION:Thorney Abbey\, Abbey Place\, Thorney\, Peterborough\, PE6 0QA\, United Kingdom
CATEGORIES:Religious,Service
END:VEVENT
BEGIN:VEVENT
DTSTART;TZID=Europe/London:20280130T103000
DTEND;TZID=Europe/London:20280130T120000
DTSTAMP:20260420T072821
CREATED:20250730T172019Z
LAST-MODIFIED:20250730T172019Z
UID:10001404-1832841000-1832846400@www.thorneyparishcouncil.org.uk
SUMMARY:New Hope Church
DESCRIPTION:Meets every week on Sunday morning at the Duke of Bedford School.  “We are the church for these challenging and difficult times\, and the church for the unchurched.  There’s no dress code or special conditions attached to visiting us and our meetings are always lively and family friendly.”
URL:https://www.thorneyparishcouncil.org.uk/event/fenlands-church-thorney-2/2028-01-30/
LOCATION:Duke of Bedford School\, Wisbech Road\, Thorney\, PE6 0ST
CATEGORIES:Religious,Service
END:VEVENT
BEGIN:VEVENT
DTSTART;TZID=Europe/London:20280130T170000
DTEND;TZID=Europe/London:20280130T190000
DTSTAMP:20260420T072821
CREATED:20250211T124651Z
LAST-MODIFIED:20250323T192048Z
UID:10000096-1832864400-1832871600@www.thorneyparishcouncil.org.uk
SUMMARY:Sunday Quiz
DESCRIPTION:Test your knowledge at Thorney Exservicemen’s Club monthly quiz.
URL:https://www.thorneyparishcouncil.org.uk/event/sunday-quiz/2028-01-30/
CATEGORIES:Entertainment,Games,Quiz
END:VEVENT
BEGIN:VEVENT
DTSTART;TZID=Europe/London:20280204T140000
DTEND;TZID=Europe/London:20280204T160000
DTSTAMP:20260420T072821
CREATED:20260206T204047Z
LAST-MODIFIED:20260206T204049Z
UID:10000644-1833285600-1833292800@www.thorneyparishcouncil.org.uk
SUMMARY:Warm Welcome
DESCRIPTION:A chat and refreshments at the Bedford Hall. Always free! \nAlso help from volunteers from Good Neighbours Rural Peterborough with smartphones\, laptops and tablets to support those starting to use newer teschnologies to access services and information online.
URL:https://www.thorneyparishcouncil.org.uk/event/warm-welcome-6/2028-02-04/
LOCATION:Bedford Hall\, The Tankyard\, Station Road\, Thorney\, Peterborough\, PE6 0QE\, United Kingdom
CATEGORIES:Social
END:VEVENT
BEGIN:VEVENT
DTSTART;TZID=Europe/London:20280206T103000
DTEND;TZID=Europe/London:20280206T120000
DTSTAMP:20260420T072821
CREATED:20250730T172019Z
LAST-MODIFIED:20250730T172019Z
UID:10001405-1833445800-1833451200@www.thorneyparishcouncil.org.uk
SUMMARY:New Hope Church
DESCRIPTION:Meets every week on Sunday morning at the Duke of Bedford School.  “We are the church for these challenging and difficult times\, and the church for the unchurched.  There’s no dress code or special conditions attached to visiting us and our meetings are always lively and family friendly.”
URL:https://www.thorneyparishcouncil.org.uk/event/fenlands-church-thorney-2/2028-02-06/
LOCATION:Duke of Bedford School\, Wisbech Road\, Thorney\, PE6 0ST
CATEGORIES:Religious,Service
END:VEVENT
BEGIN:VEVENT
DTSTART;TZID=Europe/London:20280206T110000
DTEND;TZID=Europe/London:20280206T120000
DTSTAMP:20260420T072821
CREATED:20250503T190245Z
LAST-MODIFIED:20250503T190245Z
UID:10000218-1833447600-1833451200@www.thorneyparishcouncil.org.uk
SUMMARY:Thorney Abbey: Sung Eucharist
DESCRIPTION:A Communion service at the Abbey
URL:https://www.thorneyparishcouncil.org.uk/event/sung-eucharist-2-2/2028-02-06/
CATEGORIES:Religious,Service
END:VEVENT
BEGIN:VEVENT
DTSTART;TZID=Europe/London:20280206T160000
DTEND;TZID=Europe/London:20280206T173000
DTSTAMP:20260420T072821
CREATED:20250323T203731Z
LAST-MODIFIED:20250323T203731Z
UID:10000474-1833465600-1833471000@www.thorneyparishcouncil.org.uk
SUMMARY:Messy Church
DESCRIPTION:Stories\, games and activities for all the family.
URL:https://www.thorneyparishcouncil.org.uk/event/messy-church/2028-02-06/
LOCATION:Bedford Hall\, The Tankyard\, Station Road\, Thorney\, Peterborough\, PE6 0QE\, United Kingdom
CATEGORIES:Religious
END:VEVENT
BEGIN:VEVENT
DTSTART;TZID=Europe/London:20280210T190000
DTEND;TZID=Europe/London:20280210T220000
DTSTAMP:20260420T072821
CREATED:20250219T155239Z
LAST-MODIFIED:20250219T155239Z
UID:10000037-1833822000-1833832800@www.thorneyparishcouncil.org.uk
SUMMARY:Bingo
DESCRIPTION:Try your luck at our popular monthly club bingo! Doors open one hour before scheduled start time. Finsih time may vary.
URL:https://www.thorneyparishcouncil.org.uk/event/bingo/2028-02-10/
LOCATION:Thorney Ex-Servicemen’s Club\, 15 Station Road\, Thorney\, Peterborough\, PE6 0QE\, United Kingdom
CATEGORIES:Bingo,Entertainment,Games
ATTACH;FMTTYPE=image/jpeg:https://www.thorneyparishcouncil.org.uk/wp-content/uploads/2025/02/bingo.jpg
END:VEVENT
BEGIN:VEVENT
DTSTART;TZID=Europe/London:20280213T103000
DTEND;TZID=Europe/London:20280213T120000
DTSTAMP:20260420T072821
CREATED:20250730T172019Z
LAST-MODIFIED:20250730T172019Z
UID:10001406-1834050600-1834056000@www.thorneyparishcouncil.org.uk
SUMMARY:New Hope Church
DESCRIPTION:Meets every week on Sunday morning at the Duke of Bedford School.  “We are the church for these challenging and difficult times\, and the church for the unchurched.  There’s no dress code or special conditions attached to visiting us and our meetings are always lively and family friendly.”
URL:https://www.thorneyparishcouncil.org.uk/event/fenlands-church-thorney-2/2028-02-13/
LOCATION:Duke of Bedford School\, Wisbech Road\, Thorney\, PE6 0ST
CATEGORIES:Religious,Service
END:VEVENT
BEGIN:VEVENT
DTSTART;TZID=Europe/London:20280213T110000
DTEND;TZID=Europe/London:20280213T120000
DTSTAMP:20260420T072821
CREATED:20250504T124119Z
LAST-MODIFIED:20250504T124121Z
UID:10000534-1834052400-1834056000@www.thorneyparishcouncil.org.uk
SUMMARY:Morning Worship
DESCRIPTION:A more accessible\, less formal service for everyone
URL:https://www.thorneyparishcouncil.org.uk/event/morning-worship-3/2028-02-13/
LOCATION:Thorney Abbey\, Abbey Place\, Thorney\, Peterborough\, PE6 0QA\, United Kingdom
CATEGORIES:Religious,Service
END:VEVENT
BEGIN:VEVENT
DTSTART;TZID=Europe/London:20280214T190000
DTEND;TZID=Europe/London:20280214T210000
DTSTAMP:20260420T072821
CREATED:20250425T191757Z
LAST-MODIFIED:20250425T191757Z
UID:10001232-1834167600-1834174800@www.thorneyparishcouncil.org.uk
SUMMARY:Monthly meeting of Thorney Parish Council
DESCRIPTION:This includes a time for public participation at the beginning each month. Please arrive before the meeting starts\, then you will be able to ask your question or make your views heard at 7pm.
URL:https://www.thorneyparishcouncil.org.uk/event/monthly-meeting-of-thorney-parish-council/2028-02-14/
LOCATION:Parish Room\, eastern end of the Bedford Hall\, The Tankyard\, Station Road\, Thorney\, PE6 0QE
CATEGORIES:Local Administration
ORGANIZER;CN="Thorney Parish Council":MAILTO:clerk@thorneypc.co.uk
END:VEVENT
BEGIN:VEVENT
DTSTART;TZID=Europe/London:20280218T140000
DTEND;TZID=Europe/London:20280218T160000
DTSTAMP:20260420T072821
CREATED:20260206T204047Z
LAST-MODIFIED:20260206T204049Z
UID:10000645-1834495200-1834502400@www.thorneyparishcouncil.org.uk
SUMMARY:Warm Welcome
DESCRIPTION:A chat and refreshments at the Bedford Hall. Always free! \nAlso help from volunteers from Good Neighbours Rural Peterborough with smartphones\, laptops and tablets to support those starting to use newer teschnologies to access services and information online.
URL:https://www.thorneyparishcouncil.org.uk/event/warm-welcome-6/2028-02-18/
LOCATION:Bedford Hall\, The Tankyard\, Station Road\, Thorney\, Peterborough\, PE6 0QE\, United Kingdom
CATEGORIES:Social
END:VEVENT
BEGIN:VEVENT
DTSTART;TZID=Europe/London:20280220T103000
DTEND;TZID=Europe/London:20280220T120000
DTSTAMP:20260420T072821
CREATED:20250730T172019Z
LAST-MODIFIED:20250730T172019Z
UID:10001407-1834655400-1834660800@www.thorneyparishcouncil.org.uk
SUMMARY:New Hope Church
DESCRIPTION:Meets every week on Sunday morning at the Duke of Bedford School.  “We are the church for these challenging and difficult times\, and the church for the unchurched.  There’s no dress code or special conditions attached to visiting us and our meetings are always lively and family friendly.”
URL:https://www.thorneyparishcouncil.org.uk/event/fenlands-church-thorney-2/2028-02-20/
LOCATION:Duke of Bedford School\, Wisbech Road\, Thorney\, PE6 0ST
CATEGORIES:Religious,Service
END:VEVENT
BEGIN:VEVENT
DTSTART;TZID=Europe/London:20280220T110000
DTEND;TZID=Europe/London:20280220T120000
DTSTAMP:20260420T072821
CREATED:20250323T204501Z
LAST-MODIFIED:20250504T124322Z
UID:10000279-1834657200-1834660800@www.thorneyparishcouncil.org.uk
SUMMARY:Thorney Abbey Sunday Worship
DESCRIPTION:A service of Holy Communion
URL:https://www.thorneyparishcouncil.org.uk/event/sung-eucharist-3/2028-02-20/
LOCATION:Thorney Abbey\, Abbey Place\, Thorney\, Peterborough\, PE6 0QA\, United Kingdom
CATEGORIES:Religious,Service
END:VEVENT
BEGIN:VEVENT
DTSTART;TZID=Europe/London:20280227T103000
DTEND;TZID=Europe/London:20280227T120000
DTSTAMP:20260420T072821
CREATED:20250730T172019Z
LAST-MODIFIED:20250730T172019Z
UID:10001408-1835260200-1835265600@www.thorneyparishcouncil.org.uk
SUMMARY:New Hope Church
DESCRIPTION:Meets every week on Sunday morning at the Duke of Bedford School.  “We are the church for these challenging and difficult times\, and the church for the unchurched.  There’s no dress code or special conditions attached to visiting us and our meetings are always lively and family friendly.”
URL:https://www.thorneyparishcouncil.org.uk/event/fenlands-church-thorney-2/2028-02-27/
LOCATION:Duke of Bedford School\, Wisbech Road\, Thorney\, PE6 0ST
CATEGORIES:Religious,Service
END:VEVENT
BEGIN:VEVENT
DTSTART;TZID=Europe/London:20280227T110000
DTEND;TZID=Europe/London:20280227T120000
DTSTAMP:20260420T072821
CREATED:20250323T203242Z
LAST-MODIFIED:20250323T203242Z
UID:10000415-1835262000-1835265600@www.thorneyparishcouncil.org.uk
SUMMARY:Morning Worship with Holy Communion
DESCRIPTION:
URL:https://www.thorneyparishcouncil.org.uk/event/morning-worship-with-holy-communion-2/2028-02-27/
LOCATION:Thorney Abbey\, Abbey Place\, Thorney\, Peterborough\, PE6 0QA\, United Kingdom
CATEGORIES:Religious,Service
END:VEVENT
BEGIN:VEVENT
DTSTART;TZID=Europe/London:20280227T170000
DTEND;TZID=Europe/London:20280227T190000
DTSTAMP:20260420T072821
CREATED:20250211T124651Z
LAST-MODIFIED:20250323T192048Z
UID:10000097-1835283600-1835290800@www.thorneyparishcouncil.org.uk
SUMMARY:Sunday Quiz
DESCRIPTION:Test your knowledge at Thorney Exservicemen’s Club monthly quiz.
URL:https://www.thorneyparishcouncil.org.uk/event/sunday-quiz/2028-02-27/
CATEGORIES:Entertainment,Games,Quiz
END:VEVENT
BEGIN:VEVENT
DTSTART;TZID=Europe/London:20280303T140000
DTEND;TZID=Europe/London:20280303T160000
DTSTAMP:20260420T072821
CREATED:20260206T204047Z
LAST-MODIFIED:20260206T204049Z
UID:10000646-1835704800-1835712000@www.thorneyparishcouncil.org.uk
SUMMARY:Warm Welcome
DESCRIPTION:A chat and refreshments at the Bedford Hall. Always free! \nAlso help from volunteers from Good Neighbours Rural Peterborough with smartphones\, laptops and tablets to support those starting to use newer teschnologies to access services and information online.
URL:https://www.thorneyparishcouncil.org.uk/event/warm-welcome-6/2028-03-03/
LOCATION:Bedford Hall\, The Tankyard\, Station Road\, Thorney\, Peterborough\, PE6 0QE\, United Kingdom
CATEGORIES:Social
END:VEVENT
BEGIN:VEVENT
DTSTART;TZID=Europe/London:20280305T103000
DTEND;TZID=Europe/London:20280305T120000
DTSTAMP:20260420T072821
CREATED:20250730T172019Z
LAST-MODIFIED:20250730T172019Z
UID:10001409-1835865000-1835870400@www.thorneyparishcouncil.org.uk
SUMMARY:New Hope Church
DESCRIPTION:Meets every week on Sunday morning at the Duke of Bedford School.  “We are the church for these challenging and difficult times\, and the church for the unchurched.  There’s no dress code or special conditions attached to visiting us and our meetings are always lively and family friendly.”
URL:https://www.thorneyparishcouncil.org.uk/event/fenlands-church-thorney-2/2028-03-05/
LOCATION:Duke of Bedford School\, Wisbech Road\, Thorney\, PE6 0ST
CATEGORIES:Religious,Service
END:VEVENT
BEGIN:VEVENT
DTSTART;TZID=Europe/London:20280305T110000
DTEND;TZID=Europe/London:20280305T120000
DTSTAMP:20260420T072821
CREATED:20250503T190245Z
LAST-MODIFIED:20250503T190245Z
UID:10000219-1835866800-1835870400@www.thorneyparishcouncil.org.uk
SUMMARY:Thorney Abbey: Sung Eucharist
DESCRIPTION:A Communion service at the Abbey
URL:https://www.thorneyparishcouncil.org.uk/event/sung-eucharist-2-2/2028-03-05/
CATEGORIES:Religious,Service
END:VEVENT
END:VCALENDAR