BEGIN:VCALENDAR
VERSION:2.0
PRODID:-//Thorney Parish Council - ECPv6.15.20//NONSGML v1.0//EN
CALSCALE:GREGORIAN
METHOD:PUBLISH
X-WR-CALNAME:Thorney Parish Council
X-ORIGINAL-URL:https://www.thorneyparishcouncil.org.uk
X-WR-CALDESC:Events for Thorney Parish Council
REFRESH-INTERVAL;VALUE=DURATION:PT1H
X-Robots-Tag:noindex
X-PUBLISHED-TTL:PT1H
BEGIN:VTIMEZONE
TZID:Europe/London
BEGIN:DAYLIGHT
TZOFFSETFROM:+0000
TZOFFSETTO:+0100
TZNAME:BST
DTSTART:20260329T010000
END:DAYLIGHT
BEGIN:STANDARD
TZOFFSETFROM:+0100
TZOFFSETTO:+0000
TZNAME:GMT
DTSTART:20261025T010000
END:STANDARD
BEGIN:DAYLIGHT
TZOFFSETFROM:+0000
TZOFFSETTO:+0100
TZNAME:BST
DTSTART:20270328T010000
END:DAYLIGHT
BEGIN:STANDARD
TZOFFSETFROM:+0100
TZOFFSETTO:+0000
TZNAME:GMT
DTSTART:20271031T010000
END:STANDARD
BEGIN:DAYLIGHT
TZOFFSETFROM:+0000
TZOFFSETTO:+0100
TZNAME:BST
DTSTART:20280326T010000
END:DAYLIGHT
BEGIN:STANDARD
TZOFFSETFROM:+0100
TZOFFSETTO:+0000
TZNAME:GMT
DTSTART:20281029T010000
END:STANDARD
END:VTIMEZONE
BEGIN:VEVENT
DTSTART;TZID=Europe/London:20270926T110000
DTEND;TZID=Europe/London:20270926T120000
DTSTAMP:20260420T014416
CREATED:20250323T203242Z
LAST-MODIFIED:20250323T203242Z
UID:10000410-1821956400-1821960000@www.thorneyparishcouncil.org.uk
SUMMARY:Morning Worship with Holy Communion
DESCRIPTION:
URL:https://www.thorneyparishcouncil.org.uk/event/morning-worship-with-holy-communion-2/2027-09-26/
LOCATION:Thorney Abbey\, Abbey Place\, Thorney\, Peterborough\, PE6 0QA\, United Kingdom
CATEGORIES:Religious,Service
END:VEVENT
BEGIN:VEVENT
DTSTART;TZID=Europe/London:20270926T170000
DTEND;TZID=Europe/London:20270926T190000
DTSTAMP:20260420T014416
CREATED:20250211T124651Z
LAST-MODIFIED:20250323T192048Z
UID:10000092-1821978000-1821985200@www.thorneyparishcouncil.org.uk
SUMMARY:Sunday Quiz
DESCRIPTION:Test your knowledge at Thorney Exservicemen’s Club monthly quiz.
URL:https://www.thorneyparishcouncil.org.uk/event/sunday-quiz/2027-09-26/
CATEGORIES:Entertainment,Games,Quiz
END:VEVENT
BEGIN:VEVENT
DTSTART;TZID=Europe/London:20271001T140000
DTEND;TZID=Europe/London:20271001T160000
DTSTAMP:20260420T014416
CREATED:20260206T204047Z
LAST-MODIFIED:20260206T204049Z
UID:10000635-1822399200-1822406400@www.thorneyparishcouncil.org.uk
SUMMARY:Warm Welcome
DESCRIPTION:A chat and refreshments at the Bedford Hall. Always free! \nAlso help from volunteers from Good Neighbours Rural Peterborough with smartphones\, laptops and tablets to support those starting to use newer teschnologies to access services and information online.
URL:https://www.thorneyparishcouncil.org.uk/event/warm-welcome-6/2027-10-01/
LOCATION:Bedford Hall\, The Tankyard\, Station Road\, Thorney\, Peterborough\, PE6 0QE\, United Kingdom
CATEGORIES:Social
END:VEVENT
BEGIN:VEVENT
DTSTART;TZID=Europe/London:20271003T103000
DTEND;TZID=Europe/London:20271003T120000
DTSTAMP:20260420T014416
CREATED:20250730T172019Z
LAST-MODIFIED:20250730T172019Z
UID:10001387-1822559400-1822564800@www.thorneyparishcouncil.org.uk
SUMMARY:New Hope Church
DESCRIPTION:Meets every week on Sunday morning at the Duke of Bedford School.  “We are the church for these challenging and difficult times\, and the church for the unchurched.  There’s no dress code or special conditions attached to visiting us and our meetings are always lively and family friendly.”
URL:https://www.thorneyparishcouncil.org.uk/event/fenlands-church-thorney-2/2027-10-03/
LOCATION:Duke of Bedford School\, Wisbech Road\, Thorney\, PE6 0ST
CATEGORIES:Religious,Service
END:VEVENT
BEGIN:VEVENT
DTSTART;TZID=Europe/London:20271003T110000
DTEND;TZID=Europe/London:20271003T120000
DTSTAMP:20260420T014416
CREATED:20250503T190245Z
LAST-MODIFIED:20250503T190245Z
UID:10000214-1822561200-1822564800@www.thorneyparishcouncil.org.uk
SUMMARY:Thorney Abbey: Sung Eucharist
DESCRIPTION:A Communion service at the Abbey
URL:https://www.thorneyparishcouncil.org.uk/event/sung-eucharist-2-2/2027-10-03/
CATEGORIES:Religious,Service
END:VEVENT
BEGIN:VEVENT
DTSTART;TZID=Europe/London:20271003T160000
DTEND;TZID=Europe/London:20271003T173000
DTSTAMP:20260420T014416
CREATED:20250323T203731Z
LAST-MODIFIED:20250323T203731Z
UID:10000470-1822579200-1822584600@www.thorneyparishcouncil.org.uk
SUMMARY:Messy Church
DESCRIPTION:Stories\, games and activities for all the family.
URL:https://www.thorneyparishcouncil.org.uk/event/messy-church/2027-10-03/
LOCATION:Bedford Hall\, The Tankyard\, Station Road\, Thorney\, Peterborough\, PE6 0QE\, United Kingdom
CATEGORIES:Religious
END:VEVENT
BEGIN:VEVENT
DTSTART;TZID=Europe/London:20271010T103000
DTEND;TZID=Europe/London:20271010T120000
DTSTAMP:20260420T014416
CREATED:20250730T172019Z
LAST-MODIFIED:20250730T172019Z
UID:10001388-1823164200-1823169600@www.thorneyparishcouncil.org.uk
SUMMARY:New Hope Church
DESCRIPTION:Meets every week on Sunday morning at the Duke of Bedford School.  “We are the church for these challenging and difficult times\, and the church for the unchurched.  There’s no dress code or special conditions attached to visiting us and our meetings are always lively and family friendly.”
URL:https://www.thorneyparishcouncil.org.uk/event/fenlands-church-thorney-2/2027-10-10/
LOCATION:Duke of Bedford School\, Wisbech Road\, Thorney\, PE6 0ST
CATEGORIES:Religious,Service
END:VEVENT
BEGIN:VEVENT
DTSTART;TZID=Europe/London:20271010T110000
DTEND;TZID=Europe/London:20271010T120000
DTSTAMP:20260420T014416
CREATED:20250504T124119Z
LAST-MODIFIED:20250504T124121Z
UID:10000530-1823166000-1823169600@www.thorneyparishcouncil.org.uk
SUMMARY:Morning Worship
DESCRIPTION:A more accessible\, less formal service for everyone
URL:https://www.thorneyparishcouncil.org.uk/event/morning-worship-3/2027-10-10/
LOCATION:Thorney Abbey\, Abbey Place\, Thorney\, Peterborough\, PE6 0QA\, United Kingdom
CATEGORIES:Religious,Service
END:VEVENT
BEGIN:VEVENT
DTSTART;TZID=Europe/London:20271011T190000
DTEND;TZID=Europe/London:20271011T210000
DTSTAMP:20260420T014416
CREATED:20250425T191757Z
LAST-MODIFIED:20250425T191757Z
UID:10001228-1823281200-1823288400@www.thorneyparishcouncil.org.uk
SUMMARY:Monthly meeting of Thorney Parish Council
DESCRIPTION:This includes a time for public participation at the beginning each month. Please arrive before the meeting starts\, then you will be able to ask your question or make your views heard at 7pm.
URL:https://www.thorneyparishcouncil.org.uk/event/monthly-meeting-of-thorney-parish-council/2027-10-11/
LOCATION:Parish Room\, eastern end of the Bedford Hall\, The Tankyard\, Station Road\, Thorney\, PE6 0QE
CATEGORIES:Local Administration
ORGANIZER;CN="Thorney Parish Council":MAILTO:clerk@thorneypc.co.uk
END:VEVENT
BEGIN:VEVENT
DTSTART;TZID=Europe/London:20271014T190000
DTEND;TZID=Europe/London:20271014T220000
DTSTAMP:20260420T014416
CREATED:20250219T155239Z
LAST-MODIFIED:20250219T155239Z
UID:10000033-1823540400-1823551200@www.thorneyparishcouncil.org.uk
SUMMARY:Bingo
DESCRIPTION:Try your luck at our popular monthly club bingo! Doors open one hour before scheduled start time. Finsih time may vary.
URL:https://www.thorneyparishcouncil.org.uk/event/bingo/2027-10-14/
LOCATION:Thorney Ex-Servicemen’s Club\, 15 Station Road\, Thorney\, Peterborough\, PE6 0QE\, United Kingdom
CATEGORIES:Bingo,Entertainment,Games
ATTACH;FMTTYPE=image/jpeg:https://www.thorneyparishcouncil.org.uk/wp-content/uploads/2025/02/bingo.jpg
END:VEVENT
BEGIN:VEVENT
DTSTART;TZID=Europe/London:20271015T140000
DTEND;TZID=Europe/London:20271015T160000
DTSTAMP:20260420T014416
CREATED:20260206T204047Z
LAST-MODIFIED:20260206T204049Z
UID:10000636-1823608800-1823616000@www.thorneyparishcouncil.org.uk
SUMMARY:Warm Welcome
DESCRIPTION:A chat and refreshments at the Bedford Hall. Always free! \nAlso help from volunteers from Good Neighbours Rural Peterborough with smartphones\, laptops and tablets to support those starting to use newer teschnologies to access services and information online.
URL:https://www.thorneyparishcouncil.org.uk/event/warm-welcome-6/2027-10-15/
LOCATION:Bedford Hall\, The Tankyard\, Station Road\, Thorney\, Peterborough\, PE6 0QE\, United Kingdom
CATEGORIES:Social
END:VEVENT
BEGIN:VEVENT
DTSTART;TZID=Europe/London:20271017T103000
DTEND;TZID=Europe/London:20271017T120000
DTSTAMP:20260420T014416
CREATED:20250730T172019Z
LAST-MODIFIED:20250730T172019Z
UID:10001389-1823769000-1823774400@www.thorneyparishcouncil.org.uk
SUMMARY:New Hope Church
DESCRIPTION:Meets every week on Sunday morning at the Duke of Bedford School.  “We are the church for these challenging and difficult times\, and the church for the unchurched.  There’s no dress code or special conditions attached to visiting us and our meetings are always lively and family friendly.”
URL:https://www.thorneyparishcouncil.org.uk/event/fenlands-church-thorney-2/2027-10-17/
LOCATION:Duke of Bedford School\, Wisbech Road\, Thorney\, PE6 0ST
CATEGORIES:Religious,Service
END:VEVENT
BEGIN:VEVENT
DTSTART;TZID=Europe/London:20271017T110000
DTEND;TZID=Europe/London:20271017T120000
DTSTAMP:20260420T014416
CREATED:20250323T204501Z
LAST-MODIFIED:20250504T124322Z
UID:10000275-1823770800-1823774400@www.thorneyparishcouncil.org.uk
SUMMARY:Thorney Abbey Sunday Worship
DESCRIPTION:A service of Holy Communion
URL:https://www.thorneyparishcouncil.org.uk/event/sung-eucharist-3/2027-10-17/
LOCATION:Thorney Abbey\, Abbey Place\, Thorney\, Peterborough\, PE6 0QA\, United Kingdom
CATEGORIES:Religious,Service
END:VEVENT
BEGIN:VEVENT
DTSTART;TZID=Europe/London:20271024T103000
DTEND;TZID=Europe/London:20271024T120000
DTSTAMP:20260420T014416
CREATED:20250730T172019Z
LAST-MODIFIED:20250730T172019Z
UID:10001390-1824373800-1824379200@www.thorneyparishcouncil.org.uk
SUMMARY:New Hope Church
DESCRIPTION:Meets every week on Sunday morning at the Duke of Bedford School.  “We are the church for these challenging and difficult times\, and the church for the unchurched.  There’s no dress code or special conditions attached to visiting us and our meetings are always lively and family friendly.”
URL:https://www.thorneyparishcouncil.org.uk/event/fenlands-church-thorney-2/2027-10-24/
LOCATION:Duke of Bedford School\, Wisbech Road\, Thorney\, PE6 0ST
CATEGORIES:Religious,Service
END:VEVENT
BEGIN:VEVENT
DTSTART;TZID=Europe/London:20271024T110000
DTEND;TZID=Europe/London:20271024T120000
DTSTAMP:20260420T014416
CREATED:20250323T203242Z
LAST-MODIFIED:20250323T203242Z
UID:10000411-1824375600-1824379200@www.thorneyparishcouncil.org.uk
SUMMARY:Morning Worship with Holy Communion
DESCRIPTION:
URL:https://www.thorneyparishcouncil.org.uk/event/morning-worship-with-holy-communion-2/2027-10-24/
LOCATION:Thorney Abbey\, Abbey Place\, Thorney\, Peterborough\, PE6 0QA\, United Kingdom
CATEGORIES:Religious,Service
END:VEVENT
BEGIN:VEVENT
DTSTART;TZID=Europe/London:20271029T140000
DTEND;TZID=Europe/London:20271029T160000
DTSTAMP:20260420T014416
CREATED:20260206T204047Z
LAST-MODIFIED:20260206T204049Z
UID:10000637-1824818400-1824825600@www.thorneyparishcouncil.org.uk
SUMMARY:Warm Welcome
DESCRIPTION:A chat and refreshments at the Bedford Hall. Always free! \nAlso help from volunteers from Good Neighbours Rural Peterborough with smartphones\, laptops and tablets to support those starting to use newer teschnologies to access services and information online.
URL:https://www.thorneyparishcouncil.org.uk/event/warm-welcome-6/2027-10-29/
LOCATION:Bedford Hall\, The Tankyard\, Station Road\, Thorney\, Peterborough\, PE6 0QE\, United Kingdom
CATEGORIES:Social
END:VEVENT
BEGIN:VEVENT
DTSTART;TZID=Europe/London:20271031T103000
DTEND;TZID=Europe/London:20271031T120000
DTSTAMP:20260420T014416
CREATED:20250730T172019Z
LAST-MODIFIED:20250730T172019Z
UID:10001391-1824978600-1824984000@www.thorneyparishcouncil.org.uk
SUMMARY:New Hope Church
DESCRIPTION:Meets every week on Sunday morning at the Duke of Bedford School.  “We are the church for these challenging and difficult times\, and the church for the unchurched.  There’s no dress code or special conditions attached to visiting us and our meetings are always lively and family friendly.”
URL:https://www.thorneyparishcouncil.org.uk/event/fenlands-church-thorney-2/2027-10-31/
LOCATION:Duke of Bedford School\, Wisbech Road\, Thorney\, PE6 0ST
CATEGORIES:Religious,Service
END:VEVENT
BEGIN:VEVENT
DTSTART;TZID=Europe/London:20271031T170000
DTEND;TZID=Europe/London:20271031T190000
DTSTAMP:20260420T014416
CREATED:20250211T124651Z
LAST-MODIFIED:20250323T192048Z
UID:10000093-1825002000-1825009200@www.thorneyparishcouncil.org.uk
SUMMARY:Sunday Quiz
DESCRIPTION:Test your knowledge at Thorney Exservicemen’s Club monthly quiz.
URL:https://www.thorneyparishcouncil.org.uk/event/sunday-quiz/2027-10-31/
CATEGORIES:Entertainment,Games,Quiz
END:VEVENT
BEGIN:VEVENT
DTSTART;TZID=Europe/London:20271107T103000
DTEND;TZID=Europe/London:20271107T120000
DTSTAMP:20260420T014416
CREATED:20250730T172019Z
LAST-MODIFIED:20250730T172019Z
UID:10001392-1825583400-1825588800@www.thorneyparishcouncil.org.uk
SUMMARY:New Hope Church
DESCRIPTION:Meets every week on Sunday morning at the Duke of Bedford School.  “We are the church for these challenging and difficult times\, and the church for the unchurched.  There’s no dress code or special conditions attached to visiting us and our meetings are always lively and family friendly.”
URL:https://www.thorneyparishcouncil.org.uk/event/fenlands-church-thorney-2/2027-11-07/
LOCATION:Duke of Bedford School\, Wisbech Road\, Thorney\, PE6 0ST
CATEGORIES:Religious,Service
END:VEVENT
BEGIN:VEVENT
DTSTART;TZID=Europe/London:20271107T110000
DTEND;TZID=Europe/London:20271107T120000
DTSTAMP:20260420T014416
CREATED:20250503T190245Z
LAST-MODIFIED:20250503T190245Z
UID:10000215-1825585200-1825588800@www.thorneyparishcouncil.org.uk
SUMMARY:Thorney Abbey: Sung Eucharist
DESCRIPTION:A Communion service at the Abbey
URL:https://www.thorneyparishcouncil.org.uk/event/sung-eucharist-2-2/2027-11-07/
CATEGORIES:Religious,Service
END:VEVENT
BEGIN:VEVENT
DTSTART;TZID=Europe/London:20271107T160000
DTEND;TZID=Europe/London:20271107T173000
DTSTAMP:20260420T014416
CREATED:20250323T203731Z
LAST-MODIFIED:20250323T203731Z
UID:10000471-1825603200-1825608600@www.thorneyparishcouncil.org.uk
SUMMARY:Messy Church
DESCRIPTION:Stories\, games and activities for all the family.
URL:https://www.thorneyparishcouncil.org.uk/event/messy-church/2027-11-07/
LOCATION:Bedford Hall\, The Tankyard\, Station Road\, Thorney\, Peterborough\, PE6 0QE\, United Kingdom
CATEGORIES:Religious
END:VEVENT
BEGIN:VEVENT
DTSTART;TZID=Europe/London:20271108T190000
DTEND;TZID=Europe/London:20271108T210000
DTSTAMP:20260420T014416
CREATED:20250425T191757Z
LAST-MODIFIED:20250425T191757Z
UID:10001229-1825700400-1825707600@www.thorneyparishcouncil.org.uk
SUMMARY:Monthly meeting of Thorney Parish Council
DESCRIPTION:This includes a time for public participation at the beginning each month. Please arrive before the meeting starts\, then you will be able to ask your question or make your views heard at 7pm.
URL:https://www.thorneyparishcouncil.org.uk/event/monthly-meeting-of-thorney-parish-council/2027-11-08/
LOCATION:Parish Room\, eastern end of the Bedford Hall\, The Tankyard\, Station Road\, Thorney\, PE6 0QE
CATEGORIES:Local Administration
ORGANIZER;CN="Thorney Parish Council":MAILTO:clerk@thorneypc.co.uk
END:VEVENT
BEGIN:VEVENT
DTSTART;TZID=Europe/London:20271111T190000
DTEND;TZID=Europe/London:20271111T220000
DTSTAMP:20260420T014416
CREATED:20250219T155239Z
LAST-MODIFIED:20250219T155239Z
UID:10000034-1825959600-1825970400@www.thorneyparishcouncil.org.uk
SUMMARY:Bingo
DESCRIPTION:Try your luck at our popular monthly club bingo! Doors open one hour before scheduled start time. Finsih time may vary.
URL:https://www.thorneyparishcouncil.org.uk/event/bingo/2027-11-11/
LOCATION:Thorney Ex-Servicemen’s Club\, 15 Station Road\, Thorney\, Peterborough\, PE6 0QE\, United Kingdom
CATEGORIES:Bingo,Entertainment,Games
ATTACH;FMTTYPE=image/jpeg:https://www.thorneyparishcouncil.org.uk/wp-content/uploads/2025/02/bingo.jpg
END:VEVENT
BEGIN:VEVENT
DTSTART;TZID=Europe/London:20271112T140000
DTEND;TZID=Europe/London:20271112T160000
DTSTAMP:20260420T014416
CREATED:20260206T204047Z
LAST-MODIFIED:20260206T204049Z
UID:10000638-1826028000-1826035200@www.thorneyparishcouncil.org.uk
SUMMARY:Warm Welcome
DESCRIPTION:A chat and refreshments at the Bedford Hall. Always free! \nAlso help from volunteers from Good Neighbours Rural Peterborough with smartphones\, laptops and tablets to support those starting to use newer teschnologies to access services and information online.
URL:https://www.thorneyparishcouncil.org.uk/event/warm-welcome-6/2027-11-12/
LOCATION:Bedford Hall\, The Tankyard\, Station Road\, Thorney\, Peterborough\, PE6 0QE\, United Kingdom
CATEGORIES:Social
END:VEVENT
BEGIN:VEVENT
DTSTART;TZID=Europe/London:20271114T103000
DTEND;TZID=Europe/London:20271114T120000
DTSTAMP:20260420T014416
CREATED:20250730T172019Z
LAST-MODIFIED:20250730T172019Z
UID:10001393-1826188200-1826193600@www.thorneyparishcouncil.org.uk
SUMMARY:New Hope Church
DESCRIPTION:Meets every week on Sunday morning at the Duke of Bedford School.  “We are the church for these challenging and difficult times\, and the church for the unchurched.  There’s no dress code or special conditions attached to visiting us and our meetings are always lively and family friendly.”
URL:https://www.thorneyparishcouncil.org.uk/event/fenlands-church-thorney-2/2027-11-14/
LOCATION:Duke of Bedford School\, Wisbech Road\, Thorney\, PE6 0ST
CATEGORIES:Religious,Service
END:VEVENT
BEGIN:VEVENT
DTSTART;TZID=Europe/London:20271114T110000
DTEND;TZID=Europe/London:20271114T120000
DTSTAMP:20260420T014416
CREATED:20250504T124119Z
LAST-MODIFIED:20250504T124121Z
UID:10000531-1826190000-1826193600@www.thorneyparishcouncil.org.uk
SUMMARY:Morning Worship
DESCRIPTION:A more accessible\, less formal service for everyone
URL:https://www.thorneyparishcouncil.org.uk/event/morning-worship-3/2027-11-14/
LOCATION:Thorney Abbey\, Abbey Place\, Thorney\, Peterborough\, PE6 0QA\, United Kingdom
CATEGORIES:Religious,Service
END:VEVENT
BEGIN:VEVENT
DTSTART;TZID=Europe/London:20271121T103000
DTEND;TZID=Europe/London:20271121T120000
DTSTAMP:20260420T014416
CREATED:20250730T172019Z
LAST-MODIFIED:20250730T172019Z
UID:10001394-1826793000-1826798400@www.thorneyparishcouncil.org.uk
SUMMARY:New Hope Church
DESCRIPTION:Meets every week on Sunday morning at the Duke of Bedford School.  “We are the church for these challenging and difficult times\, and the church for the unchurched.  There’s no dress code or special conditions attached to visiting us and our meetings are always lively and family friendly.”
URL:https://www.thorneyparishcouncil.org.uk/event/fenlands-church-thorney-2/2027-11-21/
LOCATION:Duke of Bedford School\, Wisbech Road\, Thorney\, PE6 0ST
CATEGORIES:Religious,Service
END:VEVENT
BEGIN:VEVENT
DTSTART;TZID=Europe/London:20271121T110000
DTEND;TZID=Europe/London:20271121T120000
DTSTAMP:20260420T014416
CREATED:20250323T204501Z
LAST-MODIFIED:20250504T124322Z
UID:10000276-1826794800-1826798400@www.thorneyparishcouncil.org.uk
SUMMARY:Thorney Abbey Sunday Worship
DESCRIPTION:A service of Holy Communion
URL:https://www.thorneyparishcouncil.org.uk/event/sung-eucharist-3/2027-11-21/
LOCATION:Thorney Abbey\, Abbey Place\, Thorney\, Peterborough\, PE6 0QA\, United Kingdom
CATEGORIES:Religious,Service
END:VEVENT
BEGIN:VEVENT
DTSTART;TZID=Europe/London:20271126T140000
DTEND;TZID=Europe/London:20271126T160000
DTSTAMP:20260420T014416
CREATED:20260206T204047Z
LAST-MODIFIED:20260206T204049Z
UID:10000639-1827237600-1827244800@www.thorneyparishcouncil.org.uk
SUMMARY:Warm Welcome
DESCRIPTION:A chat and refreshments at the Bedford Hall. Always free! \nAlso help from volunteers from Good Neighbours Rural Peterborough with smartphones\, laptops and tablets to support those starting to use newer teschnologies to access services and information online.
URL:https://www.thorneyparishcouncil.org.uk/event/warm-welcome-6/2027-11-26/
LOCATION:Bedford Hall\, The Tankyard\, Station Road\, Thorney\, Peterborough\, PE6 0QE\, United Kingdom
CATEGORIES:Social
END:VEVENT
BEGIN:VEVENT
DTSTART;TZID=Europe/London:20271128T103000
DTEND;TZID=Europe/London:20271128T120000
DTSTAMP:20260420T014416
CREATED:20250730T172019Z
LAST-MODIFIED:20250730T172019Z
UID:10001395-1827397800-1827403200@www.thorneyparishcouncil.org.uk
SUMMARY:New Hope Church
DESCRIPTION:Meets every week on Sunday morning at the Duke of Bedford School.  “We are the church for these challenging and difficult times\, and the church for the unchurched.  There’s no dress code or special conditions attached to visiting us and our meetings are always lively and family friendly.”
URL:https://www.thorneyparishcouncil.org.uk/event/fenlands-church-thorney-2/2027-11-28/
LOCATION:Duke of Bedford School\, Wisbech Road\, Thorney\, PE6 0ST
CATEGORIES:Religious,Service
END:VEVENT
END:VCALENDAR